{"text_format":"3","workbook":"xlsx","n_sheets":2,"sheets":["Лист1","Лист2"],"not_rendered":{"images":1,"macros":1},"read":"whole","date_system":"1900"}

{"sheet":"Лист1","index":0,"n_rows":110,"n_cols":21,"rows_kept":110,"merged":[[0,4,0,5],[1,4,1,6],[1,8,1,9],[2,0,2,1],[2,4,2,6],[3,4,3,9],[5,0,6,0],[5,1,5,3],[5,4,5,7],[5,8,6,8]]}
[{"$nulls":3},"Дата"]
[{"$nulls":3},"Заказчик",{"$nulls":4},"Коэффициент",null,1.15,null,"Кромка 0,4",{"$f":"SUM(J108,M108,P108,S108)","v":{"v":0,"d":"0.00"}},null,19]
["Ширина кромки",null,19,"Телефон",{"$nulls":8},"Кромка 1",{"$f":"SUM(K109,N109,Q109,T109)","v":{"v":0,"d":"0.00"}},null,25]
[{"$nulls":3},"Материал",{"$nulls":8},"Кромка 2",{"$f":"SUM(L110,O110,R110,U110)","v":{"v":0,"d":"0.00"}},null,28]
[{"$nulls":15},35]
["Поз.","Параметры деталей ЛДСП",null,null,"Кромка ",{"$nulls":3},"Примечание",0.4,1,2,0.4,1,2,0.4,1,2,0.4,1,2]
[null,"Длина, мм     (по текстуре)","Ширина, мм","Кол-во"]
["Поз.1",{"$nulls":8},{"$f":"IF(LEFT(E8,3)=\"0,4\",D8*B8,0)","v":0},{"$f":"IF(LEFT(E8,1)=\"1\",D8*B8,0)","v":0},{"$f":"IF(LEFT(E8,1)=\"2\",D8*B8,0)","v":0},{"$f":"IF(LEFT(F8,3)=\"0,4\",D8*B8,0)","v":0},{"$f":"IF(LEFT(F8,1)=\"1\",D8*B8,0)","v":0},{"$f":"IF(LEFT(F8,1)=\"2\",D8*B8,0)","v":0},{"$f":"IF(LEFT(G8,3)=\"0,4\",D8*C8,0)","v":0},{"$f":"IF(LEFT(G8,1)=\"1\",D8*C8,0)","v":0},{"$f":"IF(LEFT(G8,1)=\"2\",D8*C8,0)","v":0},{"$f":"IF(LEFT(H8,3)=\"0,4\",D8*C8,0)","v":0},{"$f":"IF(LEFT(H8,1)=\"1\",D8*C8,0)","v":0},{"$f":"IF(LEFT(H8,1)=\"2\",D8*C8,0)","v":0}]
["Поз.2",{"$nulls":8},0,0,0,0,0,0,0,0,0,0,0,0]
["Поз.3",{"$nulls":8},0,0,0,0,0,0,0,0,0,0,0,0]
["Поз.4",{"$nulls":8},0,0,0,0,0,0,0,0,0,0,0,0]
["Поз.5",{"$nulls":8},0,0,0,0,0,0,0,0,0,0,0,0]
["Поз.6",{"$nulls":8},0,0,0,0,0,0,0,0,0,0,0,0]
["Поз.7",{"$nulls":8},0,0,0,0,0,0,0,0,0,0,0,0]
["Поз.8",{"$nulls":8},0,0,0,0,0,0,0,0,0,0,0,0]
["Поз.9",{"$nulls":8},0,0,0,0,0,0,0,0,0,0,0,0]
["Поз.10",{"$nulls":8},0,0,0,0,0,0,0,0,0,0,0,0]
["Поз.11",{"$nulls":8},0,0,0,0,0,0,0,0,0,0,0,0]
["Поз.12",{"$nulls":8},0,0,0,0,0,0,0,0,0,0,0,0]
["Поз.13",{"$nulls":8},0,0,0,0,0,0,0,0,0,0,0,0]
["Поз.14",{"$nulls":8},0,0,0,0,0,0,0,0,0,0,0,0]
["Поз.15",{"$nulls":8},0,0,0,0,0,0,0,0,0,0,0,0]
["Поз.16",{"$nulls":8},0,0,0,0,0,0,0,0,0,0,0,0]
["Поз.17",{"$nulls":8},0,0,0,0,0,0,0,0,0,0,0,0]
["Поз.18",{"$nulls":8},0,0,0,0,0,0,0,0,0,0,0,0]
["Поз.19",{"$nulls":8},0,0,0,0,0,0,0,0,0,0,0,0]
["Поз.20",{"$nulls":8},0,0,0,0,0,0,0,0,0,0,0,0]
["Поз.21",{"$nulls":8},0,0,0,0,0,0,0,0,0,0,0,0]
["Поз.22",{"$nulls":8},0,0,0,0,0,0,0,0,0,0,0,0]
["Поз.23",{"$nulls":8},0,0,0,0,0,0,0,0,0,0,0,0]
["Поз.24",{"$nulls":8},0,0,0,0,0,0,0,0,0,0,0,0]
["Поз.25",{"$nulls":8},0,0,0,0,0,0,0,0,0,0,0,0]
["Поз.26",{"$nulls":8},0,0,0,0,0,0,0,0,0,0,0,0]
["Поз.27",{"$nulls":8},0,0,0,0,0,0,0,0,0,0,0,0]
["Поз.28",{"$nulls":8},0,0,0,0,0,0,0,0,0,0,0,0]
["Поз.29",{"$nulls":8},0,0,0,0,0,0,0,0,0,0,0,0]
["Поз.30",{"$nulls":8},0,0,0,0,0,0,0,0,0,0,0,0]
["Поз.31",{"$nulls":8},0,0,0,0,0,0,0,0,0,0,0,0]
["Поз.32",{"$nulls":8},0,0,0,0,0,0,0,0,0,0,0,0]
["Поз.33",{"$nulls":8},{"$f":"IF(LEFT(E40,3)=\"0,4\",D40*B40,0)","v":0},{"$f":"IF(LEFT(E40,1)=\"1\",D40*B40,0)","v":0},{"$f":"IF(LEFT(E40,1)=\"2\",D40*B40,0)","v":0},{"$f":"IF(LEFT(F40,3)=\"0,4\",D40*B40,0)","v":0},{"$f":"IF(LEFT(F40,1)=\"1\",D40*B40,0)","v":0},{"$f":"IF(LEFT(F40,1)=\"2\",D40*B40,0)","v":0},{"$f":"IF(LEFT(G40,3)=\"0,4\",D40*C40,0)","v":0},{"$f":"IF(LEFT(G40,1)=\"1\",D40*C40,0)","v":0},{"$f":"IF(LEFT(G40,1)=\"2\",D40*C40,0)","v":0},{"$f":"IF(LEFT(H40,3)=\"0,4\",D40*C40,0)","v":0},{"$f":"IF(LEFT(H40,1)=\"1\",D40*C40,0)","v":0},{"$f":"IF(LEFT(H40,1)=\"2\",D40*C40,0)","v":0}]
["Поз.34",{"$nulls":8},0,0,0,0,0,0,0,0,0,0,0,0]
["Поз.35",{"$nulls":8},0,0,0,0,0,0,0,0,0,0,0,0]
["Поз.36",{"$nulls":8},0,0,0,0,0,0,0,0,0,0,0,0]
["Поз.37",{"$nulls":8},0,0,0,0,0,0,0,0,0,0,0,0]
["Поз.38",{"$nulls":8},0,0,0,0,0,0,0,0,0,0,0,0]
["Поз.39",{"$nulls":8},0,0,0,0,0,0,0,0,0,0,0,0]
["Поз.40",{"$nulls":8},0,0,0,0,0,0,0,0,0,0,0,0]
["Поз.41",{"$nulls":8},0,0,0,0,0,0,0,0,0,0,0,0]
["Поз.42",{"$nulls":8},0,0,0,0,0,0,0,0,0,0,0,0]
["Поз.43",{"$nulls":8},0,0,0,0,0,0,0,0,0,0,0,0]
["Поз.44",{"$nulls":8},0,0,0,0,0,0,0,0,0,0,0,0]
["Поз.45",{"$nulls":8},0,0,0,0,0,0,0,0,0,0,0,0]
["Поз.46",{"$nulls":8},0,0,0,0,0,0,0,0,0,0,0,0]
["Поз.47",{"$nulls":8},0,0,0,0,0,0,0,0,0,0,0,0]
["Поз.48",{"$nulls":8},0,0,0,0,0,0,0,0,0,0,0,0]
["Поз.49",{"$nulls":8},0,0,0,0,0,0,0,0,0,0,0,0]
["Поз.50",{"$nulls":8},0,0,0,0,0,0,0,0,0,0,0,0]
["Поз.51",{"$nulls":8},0,0,0,0,0,0,0,0,0,0,0,0]
["Поз.52",{"$nulls":8},0,0,0,0,0,0,0,0,0,0,0,0]
["Поз.53",{"$nulls":8},0,0,0,0,0,0,0,0,0,0,0,0]
["Поз.54",{"$nulls":8},0,0,0,0,0,0,0,0,0,0,0,0]
["Поз.55",{"$nulls":8},0,0,0,0,0,0,0,0,0,0,0,0]
["Поз.56",{"$nulls":8},0,0,0,0,0,0,0,0,0,0,0,0]
["Поз.57",{"$nulls":8},0,0,0,0,0,0,0,0,0,0,0,0]
["Поз.58",{"$nulls":8},0,0,0,0,0,0,0,0,0,0,0,0]
["Поз.59",{"$nulls":8},0,0,0,0,0,0,0,0,0,0,0,0]
["Поз.60",{"$nulls":8},0,0,0,0,0,0,0,0,0,0,0,0]
["Поз.61",{"$nulls":8},0,0,0,0,0,0,0,0,0,0,0,0]
["Поз.62",{"$nulls":8},0,0,0,0,0,0,0,0,0,0,0,0]
["Поз.63",{"$nulls":8},0,0,0,0,0,0,0,0,0,0,0,0]
["Поз.64",{"$nulls":8},0,0,0,0,0,0,0,0,0,0,0,0]
["Поз.65",{"$nulls":8},{"$f":"IF(LEFT(E72,3)=\"0,4\",D72*B72,0)","v":0},{"$f":"IF(LEFT(E72,1)=\"1\",D72*B72,0)","v":0},{"$f":"IF(LEFT(E72,1)=\"2\",D72*B72,0)","v":0},{"$f":"IF(LEFT(F72,3)=\"0,4\",D72*B72,0)","v":0},{"$f":"IF(LEFT(F72,1)=\"1\",D72*B72,0)","v":0},{"$f":"IF(LEFT(F72,1)=\"2\",D72*B72,0)","v":0},{"$f":"IF(LEFT(G72,3)=\"0,4\",D72*C72,0)","v":0},{"$f":"IF(LEFT(G72,1)=\"1\",D72*C72,0)","v":0},{"$f":"IF(LEFT(G72,1)=\"2\",D72*C72,0)","v":0},{"$f":"IF(LEFT(H72,3)=\"0,4\",D72*C72,0)","v":0},{"$f":"IF(LEFT(H72,1)=\"1\",D72*C72,0)","v":0},{"$f":"IF(LEFT(H72,1)=\"2\",D72*C72,0)","v":0}]
["Поз.66",{"$nulls":8},0,0,0,0,0,0,0,0,0,0,0,0]
["Поз.67",{"$nulls":8},0,0,0,0,0,0,0,0,0,0,0,0]
["Поз.68",{"$nulls":8},0,0,0,0,0,0,0,0,0,0,0,0]
["Поз.69",{"$nulls":8},0,0,0,0,0,0,0,0,0,0,0,0]
["Поз.70",{"$nulls":8},0,0,0,0,0,0,0,0,0,0,0,0]
["Поз.71",{"$nulls":8},0,0,0,0,0,0,0,0,0,0,0,0]
["Поз.72",{"$nulls":8},0,0,0,0,0,0,0,0,0,0,0,0]
["Поз.73",{"$nulls":8},0,0,0,0,0,0,0,0,0,0,0,0]
["Поз.74",{"$nulls":8},0,0,0,0,0,0,0,0,0,0,0,0]
["Поз.75",{"$nulls":8},0,0,0,0,0,0,0,0,0,0,0,0]
["Поз.76",{"$nulls":8},0,0,0,0,0,0,0,0,0,0,0,0]
["Поз.77",{"$nulls":8},0,0,0,0,0,0,0,0,0,0,0,0]
["Поз.78",{"$nulls":8},0,0,0,0,0,0,0,0,0,0,0,0]
["Поз.79",{"$nulls":8},0,0,0,0,0,0,0,0,0,0,0,0]
["Поз.80",{"$nulls":8},0,0,0,0,0,0,0,0,0,0,0,0]
["Поз.81",{"$nulls":8},0,0,0,0,0,0,0,0,0,0,0,0]
["Поз.82",{"$nulls":8},0,0,0,0,0,0,0,0,0,0,0,0]
["Поз.83",{"$nulls":8},0,0,0,0,0,0,0,0,0,0,0,0]
["Поз.84",{"$nulls":8},0,0,0,0,0,0,0,0,0,0,0,0]
["Поз.85",{"$nulls":8},0,0,0,0,0,0,0,0,0,0,0,0]
["Поз.86",{"$nulls":8},0,0,0,0,0,0,0,0,0,0,0,0]
["Поз.87",{"$nulls":8},0,0,0,0,0,0,0,0,0,0,0,0]
["Поз.88",{"$nulls":8},0,0,0,0,0,0,0,0,0,0,0,0]
["Поз.89",{"$nulls":8},0,0,0,0,0,0,0,0,0,0,0,0]
["Поз.90",{"$nulls":8},0,0,0,0,0,0,0,0,0,0,0,0]
["Поз.91",{"$nulls":8},0,0,0,0,0,0,0,0,0,0,0,0]
["Поз.92",{"$nulls":8},0,0,0,0,0,0,0,0,0,0,0,0]
["Поз.93",{"$nulls":8},0,0,0,0,0,0,0,0,0,0,0,0]
["Поз.94",{"$nulls":8},0,0,0,0,0,0,0,0,0,0,0,0]
["Поз.95",{"$nulls":8},0,0,0,0,0,0,0,0,0,0,0,0]
["Поз.96",{"$nulls":8},0,0,0,0,0,0,0,0,0,0,0,0]
["Поз.97",{"$nulls":8},0,0,0,0,0,0,0,0,0,0,0,0]
["Поз.98",{"$nulls":8},0,0,0,0,0,0,0,0,0,0,0,0]
["Поз.99",{"$nulls":8},0,0,0,0,0,0,0,0,0,0,0,0]
["Поз.100",{"$nulls":8},0,0,0,0,0,0,0,0,0,0,0,0]
[{"$nulls":8},0.4,{"$f":"SUM(J8:J107)*K2/1000","v":0},null,null,{"$f":"SUM(M8:M107)*K2/1000","v":0},null,null,{"$f":"SUM(P8:P107)*K2/1000","v":0},null,null,{"$f":"SUM(S8:S107)*K2/1000","v":0}]
[{"$nulls":8},1,null,{"$f":"SUM(K8:K107)*K2/1000","v":0},null,null,{"$f":"SUM(N8:N107)*K2/1000","v":0},null,null,{"$f":"SUM(Q8:Q107)*K2/1000","v":0},null,null,{"$f":"SUM(T8:T107)*K2/1000","v":0}]
[{"$nulls":8},2,null,null,{"$f":"SUM(L8:L107)*K2/1000","v":0},null,null,{"$f":"SUM(O8:O107)*K2/1000","v":0},null,null,{"$f":"SUM(R8:R107)*K2/1000","v":0},null,null,{"$f":"SUM(U8:U107)*K2/1000","v":0}]

{"sheet":"Лист2","index":1,"n_rows":100,"n_cols":20,"rows_kept":100,"hidden":true}
["",{"$f":"Лист1!A8","v":"Поз.1"},null,{"$f":"Лист1!B8","v":0},{"$f":"Лист1!C8","v":0},{"$f":"Лист1!D8","v":0},"",{"$f":"IF(ISBLANK(Лист1!E8),\"\",CONCATENATE(Лист1!E8,\"/\",Лист1!$C$3))","v":""},{"$f":"IF(ISBLANK(Лист1!E8),\"\",CONCATENATE(Лист1!E8,\"/\",Лист1!$C$3))","v":""},{"$f":"IF(LEFT(I1,1)=\"0\",0.4,IF(LEFT(I1,1)=\"1\",1,IF(LEFT(I1,1)=\"2\",2,\"\")))","v":""},{"$f":"IF(ISBLANK(Лист1!F8),\"\",CONCATENATE(Лист1!F8,\"/\",Лист1!$C$3))","v":""},{"$f":"IF(ISBLANK(Лист1!F8),\"\",CONCATENATE(Лист1!F8,\"/\",Лист1!$C$3))","v":""},{"$f":"IF(LEFT(L1,1)=\"0\",0.4,IF(LEFT(L1,1)=\"1\",1,IF(LEFT(L1,1)=\"2\",2,\"\")))","v":""},{"$f":"IF(ISBLANK(Лист1!G8),\"\",CONCATENATE(Лист1!G8,\"/\",Лист1!$C$3))","v":""},{"$f":"IF(ISBLANK(Лист1!G8),\"\",CONCATENATE(Лист1!G8,\"/\",Лист1!$C$3))","v":""},{"$f":"IF(LEFT(O1,1)=\"0\",0.4,IF(LEFT(O1,1)=\"1\",1,IF(LEFT(O1,1)=\"2\",2,\"\")))","v":""},{"$f":"IF(ISBLANK(Лист1!H8),\"\",CONCATENATE(Лист1!H8,\"/\",Лист1!$C$3))","v":""},{"$f":"IF(ISBLANK(Лист1!H8),\"\",CONCATENATE(Лист1!H8,\"/\",Лист1!$C$3))","v":""},{"$f":"IF(LEFT(R1,1)=\"0\",0.4,IF(LEFT(R1,1)=\"1\",1,IF(LEFT(R1,1)=\"2\",2,\"\")))","v":""},""]
["",{"$f":"Лист1!A9","v":"Поз.2"},null,{"$f":"Лист1!B9","v":0},{"$f":"Лист1!C9","v":0},{"$f":"Лист1!D9","v":0},"",{"$f":"IF(ISBLANK(Лист1!E9),\"\",CONCATENATE(Лист1!E9,\"/\",Лист1!$C$3))","v":""},{"$f":"IF(ISBLANK(Лист1!E9),\"\",CONCATENATE(Лист1!E9,\"/\",Лист1!$C$3))","v":""},{"$f":"IF(LEFT(I2,1)=\"0\",0.4,IF(LEFT(I2,1)=\"1\",1,IF(LEFT(I2,1)=\"2\",2,\"\")))","v":""},{"$f":"IF(ISBLANK(Лист1!F9),\"\",CONCATENATE(Лист1!F9,\"/\",Лист1!$C$3))","v":""},{"$f":"IF(ISBLANK(Лист1!F9),\"\",CONCATENATE(Лист1!F9,\"/\",Лист1!$C$3))","v":""},{"$f":"IF(LEFT(L2,1)=\"0\",0.4,IF(LEFT(L2,1)=\"1\",1,IF(LEFT(L2,1)=\"2\",2,\"\")))","v":""},{"$f":"IF(ISBLANK(Лист1!G9),\"\",CONCATENATE(Лист1!G9,\"/\",Лист1!$C$3))","v":""},{"$f":"IF(ISBLANK(Лист1!G9),\"\",CONCATENATE(Лист1!G9,\"/\",Лист1!$C$3))","v":""},{"$f":"IF(LEFT(O2,1)=\"0\",0.4,IF(LEFT(O2,1)=\"1\",1,IF(LEFT(O2,1)=\"2\",2,\"\")))","v":""},{"$f":"IF(ISBLANK(Лист1!H9),\"\",CONCATENATE(Лист1!H9,\"/\",Лист1!$C$3))","v":""},{"$f":"IF(ISBLANK(Лист1!H9),\"\",CONCATENATE(Лист1!H9,\"/\",Лист1!$C$3))","v":""},{"$f":"IF(LEFT(R2,1)=\"0\",0.4,IF(LEFT(R2,1)=\"1\",1,IF(LEFT(R2,1)=\"2\",2,\"\")))","v":""},""]
["",{"$f":"Лист1!A10","v":"Поз.3"},null,{"$f":"Лист1!B10","v":0},{"$f":"Лист1!C10","v":0},{"$f":"Лист1!D10","v":0},"",{"$f":"IF(ISBLANK(Лист1!E10),\"\",CONCATENATE(Лист1!E10,\"/\",Лист1!$C$3))","v":""},{"$f":"IF(ISBLANK(Лист1!E10),\"\",CONCATENATE(Лист1!E10,\"/\",Лист1!$C$3))","v":""},{"$f":"IF(LEFT(I3,1)=\"0\",0.4,IF(LEFT(I3,1)=\"1\",1,IF(LEFT(I3,1)=\"2\",2,\"\")))","v":""},{"$f":"IF(ISBLANK(Лист1!F10),\"\",CONCATENATE(Лист1!F10,\"/\",Лист1!$C$3))","v":""},{"$f":"IF(ISBLANK(Лист1!F10),\"\",CONCATENATE(Лист1!F10,\"/\",Лист1!$C$3))","v":""},{"$f":"IF(LEFT(L3,1)=\"0\",0.4,IF(LEFT(L3,1)=\"1\",1,IF(LEFT(L3,1)=\"2\",2,\"\")))","v":""},{"$f":"IF(ISBLANK(Лист1!G10),\"\",CONCATENATE(Лист1!G10,\"/\",Лист1!$C$3))","v":""},{"$f":"IF(ISBLANK(Лист1!G10),\"\",CONCATENATE(Лист1!G10,\"/\",Лист1!$C$3))","v":""},{"$f":"IF(LEFT(O3,1)=\"0\",0.4,IF(LEFT(O3,1)=\"1\",1,IF(LEFT(O3,1)=\"2\",2,\"\")))","v":""},{"$f":"IF(ISBLANK(Лист1!H10),\"\",CONCATENATE(Лист1!H10,\"/\",Лист1!$C$3))","v":""},{"$f":"IF(ISBLANK(Лист1!H10),\"\",CONCATENATE(Лист1!H10,\"/\",Лист1!$C$3))","v":""},{"$f":"IF(LEFT(R3,1)=\"0\",0.4,IF(LEFT(R3,1)=\"1\",1,IF(LEFT(R3,1)=\"2\",2,\"\")))","v":""},""]
["",{"$f":"Лист1!A11","v":"Поз.4"},null,{"$f":"Лист1!B11","v":0},{"$f":"Лист1!C11","v":0},{"$f":"Лист1!D11","v":0},"",{"$f":"IF(ISBLANK(Лист1!E11),\"\",CONCATENATE(Лист1!E11,\"/\",Лист1!$C$3))","v":""},{"$f":"IF(ISBLANK(Лист1!E11),\"\",CONCATENATE(Лист1!E11,\"/\",Лист1!$C$3))","v":""},"",{"$f":"IF(ISBLANK(Лист1!F11),\"\",CONCATENATE(Лист1!F11,\"/\",Лист1!$C$3))","v":""},{"$f":"IF(ISBLANK(Лист1!F11),\"\",CONCATENATE(Лист1!F11,\"/\",Лист1!$C$3))","v":""},"",{"$f":"IF(ISBLANK(Лист1!G11),\"\",CONCATENATE(Лист1!G11,\"/\",Лист1!$C$3))","v":""},{"$f":"IF(ISBLANK(Лист1!G11),\"\",CONCATENATE(Лист1!G11,\"/\",Лист1!$C$3))","v":""},"",{"$f":"IF(ISBLANK(Лист1!H11),\"\",CONCATENATE(Лист1!H11,\"/\",Лист1!$C$3))","v":""},{"$f":"IF(ISBLANK(Лист1!H11),\"\",CONCATENATE(Лист1!H11,\"/\",Лист1!$C$3))","v":""},"",""]
["",{"$f":"Лист1!A12","v":"Поз.5"},null,{"$f":"Лист1!B12","v":0},{"$f":"Лист1!C12","v":0},{"$f":"Лист1!D12","v":0},"",{"$f":"IF(ISBLANK(Лист1!E12),\"\",CONCATENATE(Лист1!E12,\"/\",Лист1!$C$3))","v":""},{"$f":"IF(ISBLANK(Лист1!E12),\"\",CONCATENATE(Лист1!E12,\"/\",Лист1!$C$3))","v":""},"",{"$f":"IF(ISBLANK(Лист1!F12),\"\",CONCATENATE(Лист1!F12,\"/\",Лист1!$C$3))","v":""},{"$f":"IF(ISBLANK(Лист1!F12),\"\",CONCATENATE(Лист1!F12,\"/\",Лист1!$C$3))","v":""},"",{"$f":"IF(ISBLANK(Лист1!G12),\"\",CONCATENATE(Лист1!G12,\"/\",Лист1!$C$3))","v":""},{"$f":"IF(ISBLANK(Лист1!G12),\"\",CONCATENATE(Лист1!G12,\"/\",Лист1!$C$3))","v":""},"",{"$f":"IF(ISBLANK(Лист1!H12),\"\",CONCATENATE(Лист1!H12,\"/\",Лист1!$C$3))","v":""},{"$f":"IF(ISBLANK(Лист1!H12),\"\",CONCATENATE(Лист1!H12,\"/\",Лист1!$C$3))","v":""},"",""]
["",{"$f":"Лист1!A13","v":"Поз.6"},null,{"$f":"Лист1!B13","v":0},{"$f":"Лист1!C13","v":0},{"$f":"Лист1!D13","v":0},"",{"$f":"IF(ISBLANK(Лист1!E13),\"\",CONCATENATE(Лист1!E13,\"/\",Лист1!$C$3))","v":""},{"$f":"IF(ISBLANK(Лист1!E13),\"\",CONCATENATE(Лист1!E13,\"/\",Лист1!$C$3))","v":""},"",{"$f":"IF(ISBLANK(Лист1!F13),\"\",CONCATENATE(Лист1!F13,\"/\",Лист1!$C$3))","v":""},{"$f":"IF(ISBLANK(Лист1!F13),\"\",CONCATENATE(Лист1!F13,\"/\",Лист1!$C$3))","v":""},"",{"$f":"IF(ISBLANK(Лист1!G13),\"\",CONCATENATE(Лист1!G13,\"/\",Лист1!$C$3))","v":""},{"$f":"IF(ISBLANK(Лист1!G13),\"\",CONCATENATE(Лист1!G13,\"/\",Лист1!$C$3))","v":""},"",{"$f":"IF(ISBLANK(Лист1!H13),\"\",CONCATENATE(Лист1!H13,\"/\",Лист1!$C$3))","v":""},{"$f":"IF(ISBLANK(Лист1!H13),\"\",CONCATENATE(Лист1!H13,\"/\",Лист1!$C$3))","v":""},"",""]
["",{"$f":"Лист1!A14","v":"Поз.7"},null,{"$f":"Лист1!B14","v":0},{"$f":"Лист1!C14","v":0},{"$f":"Лист1!D14","v":0},"",{"$f":"IF(ISBLANK(Лист1!E14),\"\",CONCATENATE(Лист1!E14,\"/\",Лист1!$C$3))","v":""},{"$f":"IF(ISBLANK(Лист1!E14),\"\",CONCATENATE(Лист1!E14,\"/\",Лист1!$C$3))","v":""},"",{"$f":"IF(ISBLANK(Лист1!F14),\"\",CONCATENATE(Лист1!F14,\"/\",Лист1!$C$3))","v":""},{"$f":"IF(ISBLANK(Лист1!F14),\"\",CONCATENATE(Лист1!F14,\"/\",Лист1!$C$3))","v":""},"",{"$f":"IF(ISBLANK(Лист1!G14),\"\",CONCATENATE(Лист1!G14,\"/\",Лист1!$C$3))","v":""},{"$f":"IF(ISBLANK(Лист1!G14),\"\",CONCATENATE(Лист1!G14,\"/\",Лист1!$C$3))","v":""},"",{"$f":"IF(ISBLANK(Лист1!H14),\"\",CONCATENATE(Лист1!H14,\"/\",Лист1!$C$3))","v":""},{"$f":"IF(ISBLANK(Лист1!H14),\"\",CONCATENATE(Лист1!H14,\"/\",Лист1!$C$3))","v":""},"",""]
["",{"$f":"Лист1!A15","v":"Поз.8"},null,{"$f":"Лист1!B15","v":0},{"$f":"Лист1!C15","v":0},{"$f":"Лист1!D15","v":0},"",{"$f":"IF(ISBLANK(Лист1!E15),\"\",CONCATENATE(Лист1!E15,\"/\",Лист1!$C$3))","v":""},{"$f":"IF(ISBLANK(Лист1!E15),\"\",CONCATENATE(Лист1!E15,\"/\",Лист1!$C$3))","v":""},"",{"$f":"IF(ISBLANK(Лист1!F15),\"\",CONCATENATE(Лист1!F15,\"/\",Лист1!$C$3))","v":""},{"$f":"IF(ISBLANK(Лист1!F15),\"\",CONCATENATE(Лист1!F15,\"/\",Лист1!$C$3))","v":""},"",{"$f":"IF(ISBLANK(Лист1!G15),\"\",CONCATENATE(Лист1!G15,\"/\",Лист1!$C$3))","v":""},{"$f":"IF(ISBLANK(Лист1!G15),\"\",CONCATENATE(Лист1!G15,\"/\",Лист1!$C$3))","v":""},"",{"$f":"IF(ISBLANK(Лист1!H15),\"\",CONCATENATE(Лист1!H15,\"/\",Лист1!$C$3))","v":""},{"$f":"IF(ISBLANK(Лист1!H15),\"\",CONCATENATE(Лист1!H15,\"/\",Лист1!$C$3))","v":""},"",""]
["",{"$f":"Лист1!A16","v":"Поз.9"},null,{"$f":"Лист1!B16","v":0},{"$f":"Лист1!C16","v":0},{"$f":"Лист1!D16","v":0},"",{"$f":"IF(ISBLANK(Лист1!E16),\"\",CONCATENATE(Лист1!E16,\"/\",Лист1!$C$3))","v":""},{"$f":"IF(ISBLANK(Лист1!E16),\"\",CONCATENATE(Лист1!E16,\"/\",Лист1!$C$3))","v":""},"",{"$f":"IF(ISBLANK(Лист1!F16),\"\",CONCATENATE(Лист1!F16,\"/\",Лист1!$C$3))","v":""},{"$f":"IF(ISBLANK(Лист1!F16),\"\",CONCATENATE(Лист1!F16,\"/\",Лист1!$C$3))","v":""},"",{"$f":"IF(ISBLANK(Лист1!G16),\"\",CONCATENATE(Лист1!G16,\"/\",Лист1!$C$3))","v":""},{"$f":"IF(ISBLANK(Лист1!G16),\"\",CONCATENATE(Лист1!G16,\"/\",Лист1!$C$3))","v":""},"",{"$f":"IF(ISBLANK(Лист1!H16),\"\",CONCATENATE(Лист1!H16,\"/\",Лист1!$C$3))","v":""},{"$f":"IF(ISBLANK(Лист1!H16),\"\",CONCATENATE(Лист1!H16,\"/\",Лист1!$C$3))","v":""},"",""]
["",{"$f":"Лист1!A17","v":"Поз.10"},null,{"$f":"Лист1!B17","v":0},{"$f":"Лист1!C17","v":0},{"$f":"Лист1!D17","v":0},"",{"$f":"IF(ISBLANK(Лист1!E17),\"\",CONCATENATE(Лист1!E17,\"/\",Лист1!$C$3))","v":""},{"$f":"IF(ISBLANK(Лист1!E17),\"\",CONCATENATE(Лист1!E17,\"/\",Лист1!$C$3))","v":""},"",{"$f":"IF(ISBLANK(Лист1!F17),\"\",CONCATENATE(Лист1!F17,\"/\",Лист1!$C$3))","v":""},{"$f":"IF(ISBLANK(Лист1!F17),\"\",CONCATENATE(Лист1!F17,\"/\",Лист1!$C$3))","v":""},"",{"$f":"IF(ISBLANK(Лист1!G17),\"\",CONCATENATE(Лист1!G17,\"/\",Лист1!$C$3))","v":""},{"$f":"IF(ISBLANK(Лист1!G17),\"\",CONCATENATE(Лист1!G17,\"/\",Лист1!$C$3))","v":""},"",{"$f":"IF(ISBLANK(Лист1!H17),\"\",CONCATENATE(Лист1!H17,\"/\",Лист1!$C$3))","v":""},{"$f":"IF(ISBLANK(Лист1!H17),\"\",CONCATENATE(Лист1!H17,\"/\",Лист1!$C$3))","v":""},"",""]
["",{"$f":"Лист1!A18","v":"Поз.11"},null,{"$f":"Лист1!B18","v":0},{"$f":"Лист1!C18","v":0},{"$f":"Лист1!D18","v":0},"",{"$f":"IF(ISBLANK(Лист1!E18),\"\",CONCATENATE(Лист1!E18,\"/\",Лист1!$C$3))","v":""},{"$f":"IF(ISBLANK(Лист1!E18),\"\",CONCATENATE(Лист1!E18,\"/\",Лист1!$C$3))","v":""},"",{"$f":"IF(ISBLANK(Лист1!F18),\"\",CONCATENATE(Лист1!F18,\"/\",Лист1!$C$3))","v":""},{"$f":"IF(ISBLANK(Лист1!F18),\"\",CONCATENATE(Лист1!F18,\"/\",Лист1!$C$3))","v":""},"",{"$f":"IF(ISBLANK(Лист1!G18),\"\",CONCATENATE(Лист1!G18,\"/\",Лист1!$C$3))","v":""},{"$f":"IF(ISBLANK(Лист1!G18),\"\",CONCATENATE(Лист1!G18,\"/\",Лист1!$C$3))","v":""},"",{"$f":"IF(ISBLANK(Лист1!H18),\"\",CONCATENATE(Лист1!H18,\"/\",Лист1!$C$3))","v":""},{"$f":"IF(ISBLANK(Лист1!H18),\"\",CONCATENATE(Лист1!H18,\"/\",Лист1!$C$3))","v":""},"",""]
["",{"$f":"Лист1!A19","v":"Поз.12"},null,{"$f":"Лист1!B19","v":0},{"$f":"Лист1!C19","v":0},{"$f":"Лист1!D19","v":0},"",{"$f":"IF(ISBLANK(Лист1!E19),\"\",CONCATENATE(Лист1!E19,\"/\",Лист1!$C$3))","v":""},{"$f":"IF(ISBLANK(Лист1!E19),\"\",CONCATENATE(Лист1!E19,\"/\",Лист1!$C$3))","v":""},"",{"$f":"IF(ISBLANK(Лист1!F19),\"\",CONCATENATE(Лист1!F19,\"/\",Лист1!$C$3))","v":""},{"$f":"IF(ISBLANK(Лист1!F19),\"\",CONCATENATE(Лист1!F19,\"/\",Лист1!$C$3))","v":""},"",{"$f":"IF(ISBLANK(Лист1!G19),\"\",CONCATENATE(Лист1!G19,\"/\",Лист1!$C$3))","v":""},{"$f":"IF(ISBLANK(Лист1!G19),\"\",CONCATENATE(Лист1!G19,\"/\",Лист1!$C$3))","v":""},"",{"$f":"IF(ISBLANK(Лист1!H19),\"\",CONCATENATE(Лист1!H19,\"/\",Лист1!$C$3))","v":""},{"$f":"IF(ISBLANK(Лист1!H19),\"\",CONCATENATE(Лист1!H19,\"/\",Лист1!$C$3))","v":""},"",""]
["",{"$f":"Лист1!A20","v":"Поз.13"},null,{"$f":"Лист1!B20","v":0},{"$f":"Лист1!C20","v":0},{"$f":"Лист1!D20","v":0},"",{"$f":"IF(ISBLANK(Лист1!E20),\"\",CONCATENATE(Лист1!E20,\"/\",Лист1!$C$3))","v":""},{"$f":"IF(ISBLANK(Лист1!E20),\"\",CONCATENATE(Лист1!E20,\"/\",Лист1!$C$3))","v":""},"",{"$f":"IF(ISBLANK(Лист1!F20),\"\",CONCATENATE(Лист1!F20,\"/\",Лист1!$C$3))","v":""},{"$f":"IF(ISBLANK(Лист1!F20),\"\",CONCATENATE(Лист1!F20,\"/\",Лист1!$C$3))","v":""},"",{"$f":"IF(ISBLANK(Лист1!G20),\"\",CONCATENATE(Лист1!G20,\"/\",Лист1!$C$3))","v":""},{"$f":"IF(ISBLANK(Лист1!G20),\"\",CONCATENATE(Лист1!G20,\"/\",Лист1!$C$3))","v":""},"",{"$f":"IF(ISBLANK(Лист1!H20),\"\",CONCATENATE(Лист1!H20,\"/\",Лист1!$C$3))","v":""},{"$f":"IF(ISBLANK(Лист1!H20),\"\",CONCATENATE(Лист1!H20,\"/\",Лист1!$C$3))","v":""},""]
[null,{"$f":"Лист1!A21","v":"Поз.14"},null,{"$f":"Лист1!B21","v":0},{"$f":"Лист1!C21","v":0},{"$f":"Лист1!D21","v":0},null,{"$f":"IF(ISBLANK(Лист1!E21),\"\",CONCATENATE(Лист1!E21,\"/\",Лист1!$C$3))","v":""},{"$f":"IF(ISBLANK(Лист1!E21),\"\",CONCATENATE(Лист1!E21,\"/\",Лист1!$C$3))","v":""},"",{"$f":"IF(ISBLANK(Лист1!F21),\"\",CONCATENATE(Лист1!F21,\"/\",Лист1!$C$3))","v":""},{"$f":"IF(ISBLANK(Лист1!F21),\"\",CONCATENATE(Лист1!F21,\"/\",Лист1!$C$3))","v":""},"",{"$f":"IF(ISBLANK(Лист1!G21),\"\",CONCATENATE(Лист1!G21,\"/\",Лист1!$C$3))","v":""},{"$f":"IF(ISBLANK(Лист1!G21),\"\",CONCATENATE(Лист1!G21,\"/\",Лист1!$C$3))","v":""},"",{"$f":"IF(ISBLANK(Лист1!H21),\"\",CONCATENATE(Лист1!H21,\"/\",Лист1!$C$3))","v":""},{"$f":"IF(ISBLANK(Лист1!H21),\"\",CONCATENATE(Лист1!H21,\"/\",Лист1!$C$3))","v":""},""]
[null,{"$f":"Лист1!A22","v":"Поз.15"},null,{"$f":"Лист1!B22","v":0},{"$f":"Лист1!C22","v":0},{"$f":"Лист1!D22","v":0},null,{"$f":"IF(ISBLANK(Лист1!E22),\"\",CONCATENATE(Лист1!E22,\"/\",Лист1!$C$3))","v":""},{"$f":"IF(ISBLANK(Лист1!E22),\"\",CONCATENATE(Лист1!E22,\"/\",Лист1!$C$3))","v":""},"",{"$f":"IF(ISBLANK(Лист1!F22),\"\",CONCATENATE(Лист1!F22,\"/\",Лист1!$C$3))","v":""},{"$f":"IF(ISBLANK(Лист1!F22),\"\",CONCATENATE(Лист1!F22,\"/\",Лист1!$C$3))","v":""},"",{"$f":"IF(ISBLANK(Лист1!G22),\"\",CONCATENATE(Лист1!G22,\"/\",Лист1!$C$3))","v":""},{"$f":"IF(ISBLANK(Лист1!G22),\"\",CONCATENATE(Лист1!G22,\"/\",Лист1!$C$3))","v":""},"",{"$f":"IF(ISBLANK(Лист1!H22),\"\",CONCATENATE(Лист1!H22,\"/\",Лист1!$C$3))","v":""},{"$f":"IF(ISBLANK(Лист1!H22),\"\",CONCATENATE(Лист1!H22,\"/\",Лист1!$C$3))","v":""},""]
[null,{"$f":"Лист1!A23","v":"Поз.16"},null,{"$f":"Лист1!B23","v":0},{"$f":"Лист1!C23","v":0},{"$f":"Лист1!D23","v":0},null,{"$f":"IF(ISBLANK(Лист1!E23),\"\",CONCATENATE(Лист1!E23,\"/\",Лист1!$C$3))","v":""},{"$f":"IF(ISBLANK(Лист1!E23),\"\",CONCATENATE(Лист1!E23,\"/\",Лист1!$C$3))","v":""},"",{"$f":"IF(ISBLANK(Лист1!F23),\"\",CONCATENATE(Лист1!F23,\"/\",Лист1!$C$3))","v":""},{"$f":"IF(ISBLANK(Лист1!F23),\"\",CONCATENATE(Лист1!F23,\"/\",Лист1!$C$3))","v":""},"",{"$f":"IF(ISBLANK(Лист1!G23),\"\",CONCATENATE(Лист1!G23,\"/\",Лист1!$C$3))","v":""},{"$f":"IF(ISBLANK(Лист1!G23),\"\",CONCATENATE(Лист1!G23,\"/\",Лист1!$C$3))","v":""},"",{"$f":"IF(ISBLANK(Лист1!H23),\"\",CONCATENATE(Лист1!H23,\"/\",Лист1!$C$3))","v":""},{"$f":"IF(ISBLANK(Лист1!H23),\"\",CONCATENATE(Лист1!H23,\"/\",Лист1!$C$3))","v":""},""]
[null,{"$f":"Лист1!A24","v":"Поз.17"},null,{"$f":"Лист1!B24","v":0},{"$f":"Лист1!C24","v":0},{"$f":"Лист1!D24","v":0},null,{"$f":"IF(ISBLANK(Лист1!E24),\"\",CONCATENATE(Лист1!E24,\"/\",Лист1!$C$3))","v":""},{"$f":"IF(ISBLANK(Лист1!E24),\"\",CONCATENATE(Лист1!E24,\"/\",Лист1!$C$3))","v":""},"",{"$f":"IF(ISBLANK(Лист1!F24),\"\",CONCATENATE(Лист1!F24,\"/\",Лист1!$C$3))","v":""},{"$f":"IF(ISBLANK(Лист1!F24),\"\",CONCATENATE(Лист1!F24,\"/\",Лист1!$C$3))","v":""},"",{"$f":"IF(ISBLANK(Лист1!G24),\"\",CONCATENATE(Лист1!G24,\"/\",Лист1!$C$3))","v":""},{"$f":"IF(ISBLANK(Лист1!G24),\"\",CONCATENATE(Лист1!G24,\"/\",Лист1!$C$3))","v":""},"",{"$f":"IF(ISBLANK(Лист1!H24),\"\",CONCATENATE(Лист1!H24,\"/\",Лист1!$C$3))","v":""},{"$f":"IF(ISBLANK(Лист1!H24),\"\",CONCATENATE(Лист1!H24,\"/\",Лист1!$C$3))","v":""},""]
[null,{"$f":"Лист1!A25","v":"Поз.18"},null,{"$f":"Лист1!B25","v":0},{"$f":"Лист1!C25","v":0},{"$f":"Лист1!D25","v":0},null,{"$f":"IF(ISBLANK(Лист1!E25),\"\",CONCATENATE(Лист1!E25,\"/\",Лист1!$C$3))","v":""},{"$f":"IF(ISBLANK(Лист1!E25),\"\",CONCATENATE(Лист1!E25,\"/\",Лист1!$C$3))","v":""},"",{"$f":"IF(ISBLANK(Лист1!F25),\"\",CONCATENATE(Лист1!F25,\"/\",Лист1!$C$3))","v":""},{"$f":"IF(ISBLANK(Лист1!F25),\"\",CONCATENATE(Лист1!F25,\"/\",Лист1!$C$3))","v":""},"",{"$f":"IF(ISBLANK(Лист1!G25),\"\",CONCATENATE(Лист1!G25,\"/\",Лист1!$C$3))","v":""},{"$f":"IF(ISBLANK(Лист1!G25),\"\",CONCATENATE(Лист1!G25,\"/\",Лист1!$C$3))","v":""},"",{"$f":"IF(ISBLANK(Лист1!H25),\"\",CONCATENATE(Лист1!H25,\"/\",Лист1!$C$3))","v":""},{"$f":"IF(ISBLANK(Лист1!H25),\"\",CONCATENATE(Лист1!H25,\"/\",Лист1!$C$3))","v":""},""]
[null,{"$f":"Лист1!A26","v":"Поз.19"},null,{"$f":"Лист1!B26","v":0},{"$f":"Лист1!C26","v":0},{"$f":"Лист1!D26","v":0},null,{"$f":"IF(ISBLANK(Лист1!E26),\"\",CONCATENATE(Лист1!E26,\"/\",Лист1!$C$3))","v":""},{"$f":"IF(ISBLANK(Лист1!E26),\"\",CONCATENATE(Лист1!E26,\"/\",Лист1!$C$3))","v":""},"",{"$f":"IF(ISBLANK(Лист1!F26),\"\",CONCATENATE(Лист1!F26,\"/\",Лист1!$C$3))","v":""},{"$f":"IF(ISBLANK(Лист1!F26),\"\",CONCATENATE(Лист1!F26,\"/\",Лист1!$C$3))","v":""},"",{"$f":"IF(ISBLANK(Лист1!G26),\"\",CONCATENATE(Лист1!G26,\"/\",Лист1!$C$3))","v":""},{"$f":"IF(ISBLANK(Лист1!G26),\"\",CONCATENATE(Лист1!G26,\"/\",Лист1!$C$3))","v":""},"",{"$f":"IF(ISBLANK(Лист1!H26),\"\",CONCATENATE(Лист1!H26,\"/\",Лист1!$C$3))","v":""},{"$f":"IF(ISBLANK(Лист1!H26),\"\",CONCATENATE(Лист1!H26,\"/\",Лист1!$C$3))","v":""},""]
[null,{"$f":"Лист1!A27","v":"Поз.20"},null,{"$f":"Лист1!B27","v":0},{"$f":"Лист1!C27","v":0},{"$f":"Лист1!D27","v":0},null,{"$f":"IF(ISBLANK(Лист1!E27),\"\",CONCATENATE(Лист1!E27,\"/\",Лист1!$C$3))","v":""},{"$f":"IF(ISBLANK(Лист1!E27),\"\",CONCATENATE(Лист1!E27,\"/\",Лист1!$C$3))","v":""},"",{"$f":"IF(ISBLANK(Лист1!F27),\"\",CONCATENATE(Лист1!F27,\"/\",Лист1!$C$3))","v":""},{"$f":"IF(ISBLANK(Лист1!F27),\"\",CONCATENATE(Лист1!F27,\"/\",Лист1!$C$3))","v":""},"",{"$f":"IF(ISBLANK(Лист1!G27),\"\",CONCATENATE(Лист1!G27,\"/\",Лист1!$C$3))","v":""},{"$f":"IF(ISBLANK(Лист1!G27),\"\",CONCATENATE(Лист1!G27,\"/\",Лист1!$C$3))","v":""},"",{"$f":"IF(ISBLANK(Лист1!H27),\"\",CONCATENATE(Лист1!H27,\"/\",Лист1!$C$3))","v":""},{"$f":"IF(ISBLANK(Лист1!H27),\"\",CONCATENATE(Лист1!H27,\"/\",Лист1!$C$3))","v":""},""]
[null,{"$f":"Лист1!A28","v":"Поз.21"},null,{"$f":"Лист1!B28","v":0},{"$f":"Лист1!C28","v":0},{"$f":"Лист1!D28","v":0},null,{"$f":"IF(ISBLANK(Лист1!E28),\"\",CONCATENATE(Лист1!E28,\"/\",Лист1!$C$3))","v":""},{"$f":"IF(ISBLANK(Лист1!E28),\"\",CONCATENATE(Лист1!E28,\"/\",Лист1!$C$3))","v":""},"",{"$f":"IF(ISBLANK(Лист1!F28),\"\",CONCATENATE(Лист1!F28,\"/\",Лист1!$C$3))","v":""},{"$f":"IF(ISBLANK(Лист1!F28),\"\",CONCATENATE(Лист1!F28,\"/\",Лист1!$C$3))","v":""},"",{"$f":"IF(ISBLANK(Лист1!G28),\"\",CONCATENATE(Лист1!G28,\"/\",Лист1!$C$3))","v":""},{"$f":"IF(ISBLANK(Лист1!G28),\"\",CONCATENATE(Лист1!G28,\"/\",Лист1!$C$3))","v":""},"",{"$f":"IF(ISBLANK(Лист1!H28),\"\",CONCATENATE(Лист1!H28,\"/\",Лист1!$C$3))","v":""},{"$f":"IF(ISBLANK(Лист1!H28),\"\",CONCATENATE(Лист1!H28,\"/\",Лист1!$C$3))","v":""},""]
[null,{"$f":"Лист1!A29","v":"Поз.22"},null,{"$f":"Лист1!B29","v":0},{"$f":"Лист1!C29","v":0},{"$f":"Лист1!D29","v":0},null,{"$f":"IF(ISBLANK(Лист1!E29),\"\",CONCATENATE(Лист1!E29,\"/\",Лист1!$C$3))","v":""},{"$f":"IF(ISBLANK(Лист1!E29),\"\",CONCATENATE(Лист1!E29,\"/\",Лист1!$C$3))","v":""},"",{"$f":"IF(ISBLANK(Лист1!F29),\"\",CONCATENATE(Лист1!F29,\"/\",Лист1!$C$3))","v":""},{"$f":"IF(ISBLANK(Лист1!F29),\"\",CONCATENATE(Лист1!F29,\"/\",Лист1!$C$3))","v":""},"",{"$f":"IF(ISBLANK(Лист1!G29),\"\",CONCATENATE(Лист1!G29,\"/\",Лист1!$C$3))","v":""},{"$f":"IF(ISBLANK(Лист1!G29),\"\",CONCATENATE(Лист1!G29,\"/\",Лист1!$C$3))","v":""},"",{"$f":"IF(ISBLANK(Лист1!H29),\"\",CONCATENATE(Лист1!H29,\"/\",Лист1!$C$3))","v":""},{"$f":"IF(ISBLANK(Лист1!H29),\"\",CONCATENATE(Лист1!H29,\"/\",Лист1!$C$3))","v":""},""]
[null,{"$f":"Лист1!A30","v":"Поз.23"},null,{"$f":"Лист1!B30","v":0},{"$f":"Лист1!C30","v":0},{"$f":"Лист1!D30","v":0},null,{"$f":"IF(ISBLANK(Лист1!E30),\"\",CONCATENATE(Лист1!E30,\"/\",Лист1!$C$3))","v":""},{"$f":"IF(ISBLANK(Лист1!E30),\"\",CONCATENATE(Лист1!E30,\"/\",Лист1!$C$3))","v":""},"",{"$f":"IF(ISBLANK(Лист1!F30),\"\",CONCATENATE(Лист1!F30,\"/\",Лист1!$C$3))","v":""},{"$f":"IF(ISBLANK(Лист1!F30),\"\",CONCATENATE(Лист1!F30,\"/\",Лист1!$C$3))","v":""},"",{"$f":"IF(ISBLANK(Лист1!G30),\"\",CONCATENATE(Лист1!G30,\"/\",Лист1!$C$3))","v":""},{"$f":"IF(ISBLANK(Лист1!G30),\"\",CONCATENATE(Лист1!G30,\"/\",Лист1!$C$3))","v":""},"",{"$f":"IF(ISBLANK(Лист1!H30),\"\",CONCATENATE(Лист1!H30,\"/\",Лист1!$C$3))","v":""},{"$f":"IF(ISBLANK(Лист1!H30),\"\",CONCATENATE(Лист1!H30,\"/\",Лист1!$C$3))","v":""},""]
[null,{"$f":"Лист1!A31","v":"Поз.24"},null,{"$f":"Лист1!B31","v":0},{"$f":"Лист1!C31","v":0},{"$f":"Лист1!D31","v":0},null,{"$f":"IF(ISBLANK(Лист1!E31),\"\",CONCATENATE(Лист1!E31,\"/\",Лист1!$C$3))","v":""},{"$f":"IF(ISBLANK(Лист1!E31),\"\",CONCATENATE(Лист1!E31,\"/\",Лист1!$C$3))","v":""},"",{"$f":"IF(ISBLANK(Лист1!F31),\"\",CONCATENATE(Лист1!F31,\"/\",Лист1!$C$3))","v":""},{"$f":"IF(ISBLANK(Лист1!F31),\"\",CONCATENATE(Лист1!F31,\"/\",Лист1!$C$3))","v":""},"",{"$f":"IF(ISBLANK(Лист1!G31),\"\",CONCATENATE(Лист1!G31,\"/\",Лист1!$C$3))","v":""},{"$f":"IF(ISBLANK(Лист1!G31),\"\",CONCATENATE(Лист1!G31,\"/\",Лист1!$C$3))","v":""},"",{"$f":"IF(ISBLANK(Лист1!H31),\"\",CONCATENATE(Лист1!H31,\"/\",Лист1!$C$3))","v":""},{"$f":"IF(ISBLANK(Лист1!H31),\"\",CONCATENATE(Лист1!H31,\"/\",Лист1!$C$3))","v":""},""]
[null,{"$f":"Лист1!A32","v":"Поз.25"},null,{"$f":"Лист1!B32","v":0},{"$f":"Лист1!C32","v":0},{"$f":"Лист1!D32","v":0},null,{"$f":"IF(ISBLANK(Лист1!E32),\"\",CONCATENATE(Лист1!E32,\"/\",Лист1!$C$3))","v":""},{"$f":"IF(ISBLANK(Лист1!E32),\"\",CONCATENATE(Лист1!E32,\"/\",Лист1!$C$3))","v":""},"",{"$f":"IF(ISBLANK(Лист1!F32),\"\",CONCATENATE(Лист1!F32,\"/\",Лист1!$C$3))","v":""},{"$f":"IF(ISBLANK(Лист1!F32),\"\",CONCATENATE(Лист1!F32,\"/\",Лист1!$C$3))","v":""},"",{"$f":"IF(ISBLANK(Лист1!G32),\"\",CONCATENATE(Лист1!G32,\"/\",Лист1!$C$3))","v":""},{"$f":"IF(ISBLANK(Лист1!G32),\"\",CONCATENATE(Лист1!G32,\"/\",Лист1!$C$3))","v":""},"",{"$f":"IF(ISBLANK(Лист1!H32),\"\",CONCATENATE(Лист1!H32,\"/\",Лист1!$C$3))","v":""},{"$f":"IF(ISBLANK(Лист1!H32),\"\",CONCATENATE(Лист1!H32,\"/\",Лист1!$C$3))","v":""},""]
[null,{"$f":"Лист1!A33","v":"Поз.26"},null,{"$f":"Лист1!B33","v":0},{"$f":"Лист1!C33","v":0},{"$f":"Лист1!D33","v":0},null,{"$f":"IF(ISBLANK(Лист1!E33),\"\",CONCATENATE(Лист1!E33,\"/\",Лист1!$C$3))","v":""},{"$f":"IF(ISBLANK(Лист1!E33),\"\",CONCATENATE(Лист1!E33,\"/\",Лист1!$C$3))","v":""},"",{"$f":"IF(ISBLANK(Лист1!F33),\"\",CONCATENATE(Лист1!F33,\"/\",Лист1!$C$3))","v":""},{"$f":"IF(ISBLANK(Лист1!F33),\"\",CONCATENATE(Лист1!F33,\"/\",Лист1!$C$3))","v":""},"",{"$f":"IF(ISBLANK(Лист1!G33),\"\",CONCATENATE(Лист1!G33,\"/\",Лист1!$C$3))","v":""},{"$f":"IF(ISBLANK(Лист1!G33),\"\",CONCATENATE(Лист1!G33,\"/\",Лист1!$C$3))","v":""},"",{"$f":"IF(ISBLANK(Лист1!H33),\"\",CONCATENATE(Лист1!H33,\"/\",Лист1!$C$3))","v":""},{"$f":"IF(ISBLANK(Лист1!H33),\"\",CONCATENATE(Лист1!H33,\"/\",Лист1!$C$3))","v":""},""]
[null,{"$f":"Лист1!A34","v":"Поз.27"},null,{"$f":"Лист1!B34","v":0},{"$f":"Лист1!C34","v":0},{"$f":"Лист1!D34","v":0},null,{"$f":"IF(ISBLANK(Лист1!E34),\"\",CONCATENATE(Лист1!E34,\"/\",Лист1!$C$3))","v":""},{"$f":"IF(ISBLANK(Лист1!E34),\"\",CONCATENATE(Лист1!E34,\"/\",Лист1!$C$3))","v":""},"",{"$f":"IF(ISBLANK(Лист1!F34),\"\",CONCATENATE(Лист1!F34,\"/\",Лист1!$C$3))","v":""},{"$f":"IF(ISBLANK(Лист1!F34),\"\",CONCATENATE(Лист1!F34,\"/\",Лист1!$C$3))","v":""},"",{"$f":"IF(ISBLANK(Лист1!G34),\"\",CONCATENATE(Лист1!G34,\"/\",Лист1!$C$3))","v":""},{"$f":"IF(ISBLANK(Лист1!G34),\"\",CONCATENATE(Лист1!G34,\"/\",Лист1!$C$3))","v":""},"",{"$f":"IF(ISBLANK(Лист1!H34),\"\",CONCATENATE(Лист1!H34,\"/\",Лист1!$C$3))","v":""},{"$f":"IF(ISBLANK(Лист1!H34),\"\",CONCATENATE(Лист1!H34,\"/\",Лист1!$C$3))","v":""},""]
[null,{"$f":"Лист1!A35","v":"Поз.28"},null,{"$f":"Лист1!B35","v":0},{"$f":"Лист1!C35","v":0},{"$f":"Лист1!D35","v":0},null,{"$f":"IF(ISBLANK(Лист1!E35),\"\",CONCATENATE(Лист1!E35,\"/\",Лист1!$C$3))","v":""},{"$f":"IF(ISBLANK(Лист1!E35),\"\",CONCATENATE(Лист1!E35,\"/\",Лист1!$C$3))","v":""},"",{"$f":"IF(ISBLANK(Лист1!F35),\"\",CONCATENATE(Лист1!F35,\"/\",Лист1!$C$3))","v":""},{"$f":"IF(ISBLANK(Лист1!F35),\"\",CONCATENATE(Лист1!F35,\"/\",Лист1!$C$3))","v":""},"",{"$f":"IF(ISBLANK(Лист1!G35),\"\",CONCATENATE(Лист1!G35,\"/\",Лист1!$C$3))","v":""},{"$f":"IF(ISBLANK(Лист1!G35),\"\",CONCATENATE(Лист1!G35,\"/\",Лист1!$C$3))","v":""},"",{"$f":"IF(ISBLANK(Лист1!H35),\"\",CONCATENATE(Лист1!H35,\"/\",Лист1!$C$3))","v":""},{"$f":"IF(ISBLANK(Лист1!H35),\"\",CONCATENATE(Лист1!H35,\"/\",Лист1!$C$3))","v":""},""]
[null,{"$f":"Лист1!A36","v":"Поз.29"},null,{"$f":"Лист1!B36","v":0},{"$f":"Лист1!C36","v":0},{"$f":"Лист1!D36","v":0},null,{"$f":"IF(ISBLANK(Лист1!E36),\"\",CONCATENATE(Лист1!E36,\"/\",Лист1!$C$3))","v":""},{"$f":"IF(ISBLANK(Лист1!E36),\"\",CONCATENATE(Лист1!E36,\"/\",Лист1!$C$3))","v":""},"",{"$f":"IF(ISBLANK(Лист1!F36),\"\",CONCATENATE(Лист1!F36,\"/\",Лист1!$C$3))","v":""},{"$f":"IF(ISBLANK(Лист1!F36),\"\",CONCATENATE(Лист1!F36,\"/\",Лист1!$C$3))","v":""},"",{"$f":"IF(ISBLANK(Лист1!G36),\"\",CONCATENATE(Лист1!G36,\"/\",Лист1!$C$3))","v":""},{"$f":"IF(ISBLANK(Лист1!G36),\"\",CONCATENATE(Лист1!G36,\"/\",Лист1!$C$3))","v":""},"",{"$f":"IF(ISBLANK(Лист1!H36),\"\",CONCATENATE(Лист1!H36,\"/\",Лист1!$C$3))","v":""},{"$f":"IF(ISBLANK(Лист1!H36),\"\",CONCATENATE(Лист1!H36,\"/\",Лист1!$C$3))","v":""},""]
[null,{"$f":"Лист1!A37","v":"Поз.30"},null,{"$f":"Лист1!B37","v":0},{"$f":"Лист1!C37","v":0},{"$f":"Лист1!D37","v":0},null,{"$f":"IF(ISBLANK(Лист1!E37),\"\",CONCATENATE(Лист1!E37,\"/\",Лист1!$C$3))","v":""},{"$f":"IF(ISBLANK(Лист1!E37),\"\",CONCATENATE(Лист1!E37,\"/\",Лист1!$C$3))","v":""},"",{"$f":"IF(ISBLANK(Лист1!F37),\"\",CONCATENATE(Лист1!F37,\"/\",Лист1!$C$3))","v":""},{"$f":"IF(ISBLANK(Лист1!F37),\"\",CONCATENATE(Лист1!F37,\"/\",Лист1!$C$3))","v":""},"",{"$f":"IF(ISBLANK(Лист1!G37),\"\",CONCATENATE(Лист1!G37,\"/\",Лист1!$C$3))","v":""},{"$f":"IF(ISBLANK(Лист1!G37),\"\",CONCATENATE(Лист1!G37,\"/\",Лист1!$C$3))","v":""},"",{"$f":"IF(ISBLANK(Лист1!H37),\"\",CONCATENATE(Лист1!H37,\"/\",Лист1!$C$3))","v":""},{"$f":"IF(ISBLANK(Лист1!H37),\"\",CONCATENATE(Лист1!H37,\"/\",Лист1!$C$3))","v":""},""]
[null,{"$f":"Лист1!A38","v":"Поз.31"},null,{"$f":"Лист1!B38","v":0},{"$f":"Лист1!C38","v":0},{"$f":"Лист1!D38","v":0},null,{"$f":"IF(ISBLANK(Лист1!E38),\"\",CONCATENATE(Лист1!E38,\"/\",Лист1!$C$3))","v":""},{"$f":"IF(ISBLANK(Лист1!E38),\"\",CONCATENATE(Лист1!E38,\"/\",Лист1!$C$3))","v":""},"",{"$f":"IF(ISBLANK(Лист1!F38),\"\",CONCATENATE(Лист1!F38,\"/\",Лист1!$C$3))","v":""},{"$f":"IF(ISBLANK(Лист1!F38),\"\",CONCATENATE(Лист1!F38,\"/\",Лист1!$C$3))","v":""},"",{"$f":"IF(ISBLANK(Лист1!G38),\"\",CONCATENATE(Лист1!G38,\"/\",Лист1!$C$3))","v":""},{"$f":"IF(ISBLANK(Лист1!G38),\"\",CONCATENATE(Лист1!G38,\"/\",Лист1!$C$3))","v":""},"",{"$f":"IF(ISBLANK(Лист1!H38),\"\",CONCATENATE(Лист1!H38,\"/\",Лист1!$C$3))","v":""},{"$f":"IF(ISBLANK(Лист1!H38),\"\",CONCATENATE(Лист1!H38,\"/\",Лист1!$C$3))","v":""},""]
[null,{"$f":"Лист1!A39","v":"Поз.32"},null,{"$f":"Лист1!B39","v":0},{"$f":"Лист1!C39","v":0},{"$f":"Лист1!D39","v":0},null,{"$f":"IF(ISBLANK(Лист1!E39),\"\",CONCATENATE(Лист1!E39,\"/\",Лист1!$C$3))","v":""},{"$f":"IF(ISBLANK(Лист1!E39),\"\",CONCATENATE(Лист1!E39,\"/\",Лист1!$C$3))","v":""},"",{"$f":"IF(ISBLANK(Лист1!F39),\"\",CONCATENATE(Лист1!F39,\"/\",Лист1!$C$3))","v":""},{"$f":"IF(ISBLANK(Лист1!F39),\"\",CONCATENATE(Лист1!F39,\"/\",Лист1!$C$3))","v":""},"",{"$f":"IF(ISBLANK(Лист1!G39),\"\",CONCATENATE(Лист1!G39,\"/\",Лист1!$C$3))","v":""},{"$f":"IF(ISBLANK(Лист1!G39),\"\",CONCATENATE(Лист1!G39,\"/\",Лист1!$C$3))","v":""},"",{"$f":"IF(ISBLANK(Лист1!H39),\"\",CONCATENATE(Лист1!H39,\"/\",Лист1!$C$3))","v":""},{"$f":"IF(ISBLANK(Лист1!H39),\"\",CONCATENATE(Лист1!H39,\"/\",Лист1!$C$3))","v":""},""]
[null,{"$f":"Лист1!A40","v":"Поз.33"},null,{"$f":"Лист1!B40","v":0},{"$f":"Лист1!C40","v":0},{"$f":"Лист1!D40","v":0},null,{"$f":"IF(ISBLANK(Лист1!E40),\"\",CONCATENATE(Лист1!E40,\"/\",Лист1!$C$3))","v":""},{"$f":"IF(ISBLANK(Лист1!E40),\"\",CONCATENATE(Лист1!E40,\"/\",Лист1!$C$3))","v":""},"",{"$f":"IF(ISBLANK(Лист1!F40),\"\",CONCATENATE(Лист1!F40,\"/\",Лист1!$C$3))","v":""},{"$f":"IF(ISBLANK(Лист1!F40),\"\",CONCATENATE(Лист1!F40,\"/\",Лист1!$C$3))","v":""},"",{"$f":"IF(ISBLANK(Лист1!G40),\"\",CONCATENATE(Лист1!G40,\"/\",Лист1!$C$3))","v":""},{"$f":"IF(ISBLANK(Лист1!G40),\"\",CONCATENATE(Лист1!G40,\"/\",Лист1!$C$3))","v":""},"",{"$f":"IF(ISBLANK(Лист1!H40),\"\",CONCATENATE(Лист1!H40,\"/\",Лист1!$C$3))","v":""},{"$f":"IF(ISBLANK(Лист1!H40),\"\",CONCATENATE(Лист1!H40,\"/\",Лист1!$C$3))","v":""},""]
[null,{"$f":"Лист1!A41","v":"Поз.34"},null,{"$f":"Лист1!B41","v":0},{"$f":"Лист1!C41","v":0},{"$f":"Лист1!D41","v":0},null,{"$f":"IF(ISBLANK(Лист1!E41),\"\",CONCATENATE(Лист1!E41,\"/\",Лист1!$C$3))","v":""},{"$f":"IF(ISBLANK(Лист1!E41),\"\",CONCATENATE(Лист1!E41,\"/\",Лист1!$C$3))","v":""},"",{"$f":"IF(ISBLANK(Лист1!F41),\"\",CONCATENATE(Лист1!F41,\"/\",Лист1!$C$3))","v":""},{"$f":"IF(ISBLANK(Лист1!F41),\"\",CONCATENATE(Лист1!F41,\"/\",Лист1!$C$3))","v":""},"",{"$f":"IF(ISBLANK(Лист1!G41),\"\",CONCATENATE(Лист1!G41,\"/\",Лист1!$C$3))","v":""},{"$f":"IF(ISBLANK(Лист1!G41),\"\",CONCATENATE(Лист1!G41,\"/\",Лист1!$C$3))","v":""},"",{"$f":"IF(ISBLANK(Лист1!H41),\"\",CONCATENATE(Лист1!H41,\"/\",Лист1!$C$3))","v":""},{"$f":"IF(ISBLANK(Лист1!H41),\"\",CONCATENATE(Лист1!H41,\"/\",Лист1!$C$3))","v":""},""]
[null,{"$f":"Лист1!A42","v":"Поз.35"},null,{"$f":"Лист1!B42","v":0},{"$f":"Лист1!C42","v":0},{"$f":"Лист1!D42","v":0},null,{"$f":"IF(ISBLANK(Лист1!E42),\"\",CONCATENATE(Лист1!E42,\"/\",Лист1!$C$3))","v":""},{"$f":"IF(ISBLANK(Лист1!E42),\"\",CONCATENATE(Лист1!E42,\"/\",Лист1!$C$3))","v":""},"",{"$f":"IF(ISBLANK(Лист1!F42),\"\",CONCATENATE(Лист1!F42,\"/\",Лист1!$C$3))","v":""},{"$f":"IF(ISBLANK(Лист1!F42),\"\",CONCATENATE(Лист1!F42,\"/\",Лист1!$C$3))","v":""},"",{"$f":"IF(ISBLANK(Лист1!G42),\"\",CONCATENATE(Лист1!G42,\"/\",Лист1!$C$3))","v":""},{"$f":"IF(ISBLANK(Лист1!G42),\"\",CONCATENATE(Лист1!G42,\"/\",Лист1!$C$3))","v":""},"",{"$f":"IF(ISBLANK(Лист1!H42),\"\",CONCATENATE(Лист1!H42,\"/\",Лист1!$C$3))","v":""},{"$f":"IF(ISBLANK(Лист1!H42),\"\",CONCATENATE(Лист1!H42,\"/\",Лист1!$C$3))","v":""},""]
[null,{"$f":"Лист1!A43","v":"Поз.36"},null,{"$f":"Лист1!B43","v":0},{"$f":"Лист1!C43","v":0},{"$f":"Лист1!D43","v":0},null,{"$f":"IF(ISBLANK(Лист1!E43),\"\",CONCATENATE(Лист1!E43,\"/\",Лист1!$C$3))","v":""},{"$f":"IF(ISBLANK(Лист1!E43),\"\",CONCATENATE(Лист1!E43,\"/\",Лист1!$C$3))","v":""},"",{"$f":"IF(ISBLANK(Лист1!F43),\"\",CONCATENATE(Лист1!F43,\"/\",Лист1!$C$3))","v":""},{"$f":"IF(ISBLANK(Лист1!F43),\"\",CONCATENATE(Лист1!F43,\"/\",Лист1!$C$3))","v":""},"",{"$f":"IF(ISBLANK(Лист1!G43),\"\",CONCATENATE(Лист1!G43,\"/\",Лист1!$C$3))","v":""},{"$f":"IF(ISBLANK(Лист1!G43),\"\",CONCATENATE(Лист1!G43,\"/\",Лист1!$C$3))","v":""},"",{"$f":"IF(ISBLANK(Лист1!H43),\"\",CONCATENATE(Лист1!H43,\"/\",Лист1!$C$3))","v":""},{"$f":"IF(ISBLANK(Лист1!H43),\"\",CONCATENATE(Лист1!H43,\"/\",Лист1!$C$3))","v":""},""]
[null,{"$f":"Лист1!A44","v":"Поз.37"},null,{"$f":"Лист1!B44","v":0},{"$f":"Лист1!C44","v":0},{"$f":"Лист1!D44","v":0},null,{"$f":"IF(ISBLANK(Лист1!E44),\"\",CONCATENATE(Лист1!E44,\"/\",Лист1!$C$3))","v":""},{"$f":"IF(ISBLANK(Лист1!E44),\"\",CONCATENATE(Лист1!E44,\"/\",Лист1!$C$3))","v":""},"",{"$f":"IF(ISBLANK(Лист1!F44),\"\",CONCATENATE(Лист1!F44,\"/\",Лист1!$C$3))","v":""},{"$f":"IF(ISBLANK(Лист1!F44),\"\",CONCATENATE(Лист1!F44,\"/\",Лист1!$C$3))","v":""},"",{"$f":"IF(ISBLANK(Лист1!G44),\"\",CONCATENATE(Лист1!G44,\"/\",Лист1!$C$3))","v":""},{"$f":"IF(ISBLANK(Лист1!G44),\"\",CONCATENATE(Лист1!G44,\"/\",Лист1!$C$3))","v":""},"",{"$f":"IF(ISBLANK(Лист1!H44),\"\",CONCATENATE(Лист1!H44,\"/\",Лист1!$C$3))","v":""},{"$f":"IF(ISBLANK(Лист1!H44),\"\",CONCATENATE(Лист1!H44,\"/\",Лист1!$C$3))","v":""},""]
[null,{"$f":"Лист1!A45","v":"Поз.38"},null,{"$f":"Лист1!B45","v":0},{"$f":"Лист1!C45","v":0},{"$f":"Лист1!D45","v":0},null,{"$f":"IF(ISBLANK(Лист1!E45),\"\",CONCATENATE(Лист1!E45,\"/\",Лист1!$C$3))","v":""},{"$f":"IF(ISBLANK(Лист1!E45),\"\",CONCATENATE(Лист1!E45,\"/\",Лист1!$C$3))","v":""},"",{"$f":"IF(ISBLANK(Лист1!F45),\"\",CONCATENATE(Лист1!F45,\"/\",Лист1!$C$3))","v":""},{"$f":"IF(ISBLANK(Лист1!F45),\"\",CONCATENATE(Лист1!F45,\"/\",Лист1!$C$3))","v":""},"",{"$f":"IF(ISBLANK(Лист1!G45),\"\",CONCATENATE(Лист1!G45,\"/\",Лист1!$C$3))","v":""},{"$f":"IF(ISBLANK(Лист1!G45),\"\",CONCATENATE(Лист1!G45,\"/\",Лист1!$C$3))","v":""},"",{"$f":"IF(ISBLANK(Лист1!H45),\"\",CONCATENATE(Лист1!H45,\"/\",Лист1!$C$3))","v":""},{"$f":"IF(ISBLANK(Лист1!H45),\"\",CONCATENATE(Лист1!H45,\"/\",Лист1!$C$3))","v":""},""]
[null,{"$f":"Лист1!A46","v":"Поз.39"},null,{"$f":"Лист1!B46","v":0},{"$f":"Лист1!C46","v":0},{"$f":"Лист1!D46","v":0},null,{"$f":"IF(ISBLANK(Лист1!E46),\"\",CONCATENATE(Лист1!E46,\"/\",Лист1!$C$3))","v":""},{"$f":"IF(ISBLANK(Лист1!E46),\"\",CONCATENATE(Лист1!E46,\"/\",Лист1!$C$3))","v":""},"",{"$f":"IF(ISBLANK(Лист1!F46),\"\",CONCATENATE(Лист1!F46,\"/\",Лист1!$C$3))","v":""},{"$f":"IF(ISBLANK(Лист1!F46),\"\",CONCATENATE(Лист1!F46,\"/\",Лист1!$C$3))","v":""},"",{"$f":"IF(ISBLANK(Лист1!G46),\"\",CONCATENATE(Лист1!G46,\"/\",Лист1!$C$3))","v":""},{"$f":"IF(ISBLANK(Лист1!G46),\"\",CONCATENATE(Лист1!G46,\"/\",Лист1!$C$3))","v":""},"",{"$f":"IF(ISBLANK(Лист1!H46),\"\",CONCATENATE(Лист1!H46,\"/\",Лист1!$C$3))","v":""},{"$f":"IF(ISBLANK(Лист1!H46),\"\",CONCATENATE(Лист1!H46,\"/\",Лист1!$C$3))","v":""},""]
[null,{"$f":"Лист1!A47","v":"Поз.40"},null,{"$f":"Лист1!B47","v":0},{"$f":"Лист1!C47","v":0},{"$f":"Лист1!D47","v":0},null,{"$f":"IF(ISBLANK(Лист1!E47),\"\",CONCATENATE(Лист1!E47,\"/\",Лист1!$C$3))","v":""},{"$f":"IF(ISBLANK(Лист1!E47),\"\",CONCATENATE(Лист1!E47,\"/\",Лист1!$C$3))","v":""},"",{"$f":"IF(ISBLANK(Лист1!F47),\"\",CONCATENATE(Лист1!F47,\"/\",Лист1!$C$3))","v":""},{"$f":"IF(ISBLANK(Лист1!F47),\"\",CONCATENATE(Лист1!F47,\"/\",Лист1!$C$3))","v":""},"",{"$f":"IF(ISBLANK(Лист1!G47),\"\",CONCATENATE(Лист1!G47,\"/\",Лист1!$C$3))","v":""},{"$f":"IF(ISBLANK(Лист1!G47),\"\",CONCATENATE(Лист1!G47,\"/\",Лист1!$C$3))","v":""},"",{"$f":"IF(ISBLANK(Лист1!H47),\"\",CONCATENATE(Лист1!H47,\"/\",Лист1!$C$3))","v":""},{"$f":"IF(ISBLANK(Лист1!H47),\"\",CONCATENATE(Лист1!H47,\"/\",Лист1!$C$3))","v":""},""]
[null,{"$f":"Лист1!A48","v":"Поз.41"},null,{"$f":"Лист1!B48","v":0},{"$f":"Лист1!C48","v":0},{"$f":"Лист1!D48","v":0},null,{"$f":"IF(ISBLANK(Лист1!E48),\"\",CONCATENATE(Лист1!E48,\"/\",Лист1!$C$3))","v":""},{"$f":"IF(ISBLANK(Лист1!E48),\"\",CONCATENATE(Лист1!E48,\"/\",Лист1!$C$3))","v":""},"",{"$f":"IF(ISBLANK(Лист1!F48),\"\",CONCATENATE(Лист1!F48,\"/\",Лист1!$C$3))","v":""},{"$f":"IF(ISBLANK(Лист1!F48),\"\",CONCATENATE(Лист1!F48,\"/\",Лист1!$C$3))","v":""},"",{"$f":"IF(ISBLANK(Лист1!G48),\"\",CONCATENATE(Лист1!G48,\"/\",Лист1!$C$3))","v":""},{"$f":"IF(ISBLANK(Лист1!G48),\"\",CONCATENATE(Лист1!G48,\"/\",Лист1!$C$3))","v":""},"",{"$f":"IF(ISBLANK(Лист1!H48),\"\",CONCATENATE(Лист1!H48,\"/\",Лист1!$C$3))","v":""},{"$f":"IF(ISBLANK(Лист1!H48),\"\",CONCATENATE(Лист1!H48,\"/\",Лист1!$C$3))","v":""},""]
[null,{"$f":"Лист1!A49","v":"Поз.42"},null,{"$f":"Лист1!B49","v":0},{"$f":"Лист1!C49","v":0},{"$f":"Лист1!D49","v":0},null,{"$f":"IF(ISBLANK(Лист1!E49),\"\",CONCATENATE(Лист1!E49,\"/\",Лист1!$C$3))","v":""},{"$f":"IF(ISBLANK(Лист1!E49),\"\",CONCATENATE(Лист1!E49,\"/\",Лист1!$C$3))","v":""},"",{"$f":"IF(ISBLANK(Лист1!F49),\"\",CONCATENATE(Лист1!F49,\"/\",Лист1!$C$3))","v":""},{"$f":"IF(ISBLANK(Лист1!F49),\"\",CONCATENATE(Лист1!F49,\"/\",Лист1!$C$3))","v":""},"",{"$f":"IF(ISBLANK(Лист1!G49),\"\",CONCATENATE(Лист1!G49,\"/\",Лист1!$C$3))","v":""},{"$f":"IF(ISBLANK(Лист1!G49),\"\",CONCATENATE(Лист1!G49,\"/\",Лист1!$C$3))","v":""},"",{"$f":"IF(ISBLANK(Лист1!H49),\"\",CONCATENATE(Лист1!H49,\"/\",Лист1!$C$3))","v":""},{"$f":"IF(ISBLANK(Лист1!H49),\"\",CONCATENATE(Лист1!H49,\"/\",Лист1!$C$3))","v":""},""]
[null,{"$f":"Лист1!A50","v":"Поз.43"},null,{"$f":"Лист1!B50","v":0},{"$f":"Лист1!C50","v":0},{"$f":"Лист1!D50","v":0},null,{"$f":"IF(ISBLANK(Лист1!E50),\"\",CONCATENATE(Лист1!E50,\"/\",Лист1!$C$3))","v":""},{"$f":"IF(ISBLANK(Лист1!E50),\"\",CONCATENATE(Лист1!E50,\"/\",Лист1!$C$3))","v":""},"",{"$f":"IF(ISBLANK(Лист1!F50),\"\",CONCATENATE(Лист1!F50,\"/\",Лист1!$C$3))","v":""},{"$f":"IF(ISBLANK(Лист1!F50),\"\",CONCATENATE(Лист1!F50,\"/\",Лист1!$C$3))","v":""},"",{"$f":"IF(ISBLANK(Лист1!G50),\"\",CONCATENATE(Лист1!G50,\"/\",Лист1!$C$3))","v":""},{"$f":"IF(ISBLANK(Лист1!G50),\"\",CONCATENATE(Лист1!G50,\"/\",Лист1!$C$3))","v":""},"",{"$f":"IF(ISBLANK(Лист1!H50),\"\",CONCATENATE(Лист1!H50,\"/\",Лист1!$C$3))","v":""},{"$f":"IF(ISBLANK(Лист1!H50),\"\",CONCATENATE(Лист1!H50,\"/\",Лист1!$C$3))","v":""},""]
[null,{"$f":"Лист1!A51","v":"Поз.44"},null,{"$f":"Лист1!B51","v":0},{"$f":"Лист1!C51","v":0},{"$f":"Лист1!D51","v":0},null,{"$f":"IF(ISBLANK(Лист1!E51),\"\",CONCATENATE(Лист1!E51,\"/\",Лист1!$C$3))","v":""},{"$f":"IF(ISBLANK(Лист1!E51),\"\",CONCATENATE(Лист1!E51,\"/\",Лист1!$C$3))","v":""},"",{"$f":"IF(ISBLANK(Лист1!F51),\"\",CONCATENATE(Лист1!F51,\"/\",Лист1!$C$3))","v":""},{"$f":"IF(ISBLANK(Лист1!F51),\"\",CONCATENATE(Лист1!F51,\"/\",Лист1!$C$3))","v":""},"",{"$f":"IF(ISBLANK(Лист1!G51),\"\",CONCATENATE(Лист1!G51,\"/\",Лист1!$C$3))","v":""},{"$f":"IF(ISBLANK(Лист1!G51),\"\",CONCATENATE(Лист1!G51,\"/\",Лист1!$C$3))","v":""},"",{"$f":"IF(ISBLANK(Лист1!H51),\"\",CONCATENATE(Лист1!H51,\"/\",Лист1!$C$3))","v":""},{"$f":"IF(ISBLANK(Лист1!H51),\"\",CONCATENATE(Лист1!H51,\"/\",Лист1!$C$3))","v":""},""]
[null,{"$f":"Лист1!A52","v":"Поз.45"},null,{"$f":"Лист1!B52","v":0},{"$f":"Лист1!C52","v":0},{"$f":"Лист1!D52","v":0},null,{"$f":"IF(ISBLANK(Лист1!E52),\"\",CONCATENATE(Лист1!E52,\"/\",Лист1!$C$3))","v":""},{"$f":"IF(ISBLANK(Лист1!E52),\"\",CONCATENATE(Лист1!E52,\"/\",Лист1!$C$3))","v":""},"",{"$f":"IF(ISBLANK(Лист1!F52),\"\",CONCATENATE(Лист1!F52,\"/\",Лист1!$C$3))","v":""},{"$f":"IF(ISBLANK(Лист1!F52),\"\",CONCATENATE(Лист1!F52,\"/\",Лист1!$C$3))","v":""},"",{"$f":"IF(ISBLANK(Лист1!G52),\"\",CONCATENATE(Лист1!G52,\"/\",Лист1!$C$3))","v":""},{"$f":"IF(ISBLANK(Лист1!G52),\"\",CONCATENATE(Лист1!G52,\"/\",Лист1!$C$3))","v":""},"",{"$f":"IF(ISBLANK(Лист1!H52),\"\",CONCATENATE(Лист1!H52,\"/\",Лист1!$C$3))","v":""},{"$f":"IF(ISBLANK(Лист1!H52),\"\",CONCATENATE(Лист1!H52,\"/\",Лист1!$C$3))","v":""},""]
[null,{"$f":"Лист1!A53","v":"Поз.46"},null,{"$f":"Лист1!B53","v":0},{"$f":"Лист1!C53","v":0},{"$f":"Лист1!D53","v":0},null,{"$f":"IF(ISBLANK(Лист1!E53),\"\",CONCATENATE(Лист1!E53,\"/\",Лист1!$C$3))","v":""},{"$f":"IF(ISBLANK(Лист1!E53),\"\",CONCATENATE(Лист1!E53,\"/\",Лист1!$C$3))","v":""},"",{"$f":"IF(ISBLANK(Лист1!F53),\"\",CONCATENATE(Лист1!F53,\"/\",Лист1!$C$3))","v":""},{"$f":"IF(ISBLANK(Лист1!F53),\"\",CONCATENATE(Лист1!F53,\"/\",Лист1!$C$3))","v":""},"",{"$f":"IF(ISBLANK(Лист1!G53),\"\",CONCATENATE(Лист1!G53,\"/\",Лист1!$C$3))","v":""},{"$f":"IF(ISBLANK(Лист1!G53),\"\",CONCATENATE(Лист1!G53,\"/\",Лист1!$C$3))","v":""},"",{"$f":"IF(ISBLANK(Лист1!H53),\"\",CONCATENATE(Лист1!H53,\"/\",Лист1!$C$3))","v":""},{"$f":"IF(ISBLANK(Лист1!H53),\"\",CONCATENATE(Лист1!H53,\"/\",Лист1!$C$3))","v":""},""]
[null,{"$f":"Лист1!A54","v":"Поз.47"},null,{"$f":"Лист1!B54","v":0},{"$f":"Лист1!C54","v":0},{"$f":"Лист1!D54","v":0},null,{"$f":"IF(ISBLANK(Лист1!E54),\"\",CONCATENATE(Лист1!E54,\"/\",Лист1!$C$3))","v":""},{"$f":"IF(ISBLANK(Лист1!E54),\"\",CONCATENATE(Лист1!E54,\"/\",Лист1!$C$3))","v":""},"",{"$f":"IF(ISBLANK(Лист1!F54),\"\",CONCATENATE(Лист1!F54,\"/\",Лист1!$C$3))","v":""},{"$f":"IF(ISBLANK(Лист1!F54),\"\",CONCATENATE(Лист1!F54,\"/\",Лист1!$C$3))","v":""},"",{"$f":"IF(ISBLANK(Лист1!G54),\"\",CONCATENATE(Лист1!G54,\"/\",Лист1!$C$3))","v":""},{"$f":"IF(ISBLANK(Лист1!G54),\"\",CONCATENATE(Лист1!G54,\"/\",Лист1!$C$3))","v":""},"",{"$f":"IF(ISBLANK(Лист1!H54),\"\",CONCATENATE(Лист1!H54,\"/\",Лист1!$C$3))","v":""},{"$f":"IF(ISBLANK(Лист1!H54),\"\",CONCATENATE(Лист1!H54,\"/\",Лист1!$C$3))","v":""},""]
[null,{"$f":"Лист1!A55","v":"Поз.48"},null,{"$f":"Лист1!B55","v":0},{"$f":"Лист1!C55","v":0},{"$f":"Лист1!D55","v":0},null,{"$f":"IF(ISBLANK(Лист1!E55),\"\",CONCATENATE(Лист1!E55,\"/\",Лист1!$C$3))","v":""},{"$f":"IF(ISBLANK(Лист1!E55),\"\",CONCATENATE(Лист1!E55,\"/\",Лист1!$C$3))","v":""},"",{"$f":"IF(ISBLANK(Лист1!F55),\"\",CONCATENATE(Лист1!F55,\"/\",Лист1!$C$3))","v":""},{"$f":"IF(ISBLANK(Лист1!F55),\"\",CONCATENATE(Лист1!F55,\"/\",Лист1!$C$3))","v":""},"",{"$f":"IF(ISBLANK(Лист1!G55),\"\",CONCATENATE(Лист1!G55,\"/\",Лист1!$C$3))","v":""},{"$f":"IF(ISBLANK(Лист1!G55),\"\",CONCATENATE(Лист1!G55,\"/\",Лист1!$C$3))","v":""},"",{"$f":"IF(ISBLANK(Лист1!H55),\"\",CONCATENATE(Лист1!H55,\"/\",Лист1!$C$3))","v":""},{"$f":"IF(ISBLANK(Лист1!H55),\"\",CONCATENATE(Лист1!H55,\"/\",Лист1!$C$3))","v":""},""]
[null,{"$f":"Лист1!A56","v":"Поз.49"},null,{"$f":"Лист1!B56","v":0},{"$f":"Лист1!C56","v":0},{"$f":"Лист1!D56","v":0},null,{"$f":"IF(ISBLANK(Лист1!E56),\"\",CONCATENATE(Лист1!E56,\"/\",Лист1!$C$3))","v":""},{"$f":"IF(ISBLANK(Лист1!E56),\"\",CONCATENATE(Лист1!E56,\"/\",Лист1!$C$3))","v":""},"",{"$f":"IF(ISBLANK(Лист1!F56),\"\",CONCATENATE(Лист1!F56,\"/\",Лист1!$C$3))","v":""},{"$f":"IF(ISBLANK(Лист1!F56),\"\",CONCATENATE(Лист1!F56,\"/\",Лист1!$C$3))","v":""},"",{"$f":"IF(ISBLANK(Лист1!G56),\"\",CONCATENATE(Лист1!G56,\"/\",Лист1!$C$3))","v":""},{"$f":"IF(ISBLANK(Лист1!G56),\"\",CONCATENATE(Лист1!G56,\"/\",Лист1!$C$3))","v":""},"",{"$f":"IF(ISBLANK(Лист1!H56),\"\",CONCATENATE(Лист1!H56,\"/\",Лист1!$C$3))","v":""},{"$f":"IF(ISBLANK(Лист1!H56),\"\",CONCATENATE(Лист1!H56,\"/\",Лист1!$C$3))","v":""},""]
[null,{"$f":"Лист1!A57","v":"Поз.50"},null,{"$f":"Лист1!B57","v":0},{"$f":"Лист1!C57","v":0},{"$f":"Лист1!D57","v":0},null,{"$f":"IF(ISBLANK(Лист1!E57),\"\",CONCATENATE(Лист1!E57,\"/\",Лист1!$C$3))","v":""},{"$f":"IF(ISBLANK(Лист1!E57),\"\",CONCATENATE(Лист1!E57,\"/\",Лист1!$C$3))","v":""},"",{"$f":"IF(ISBLANK(Лист1!F57),\"\",CONCATENATE(Лист1!F57,\"/\",Лист1!$C$3))","v":""},{"$f":"IF(ISBLANK(Лист1!F57),\"\",CONCATENATE(Лист1!F57,\"/\",Лист1!$C$3))","v":""},"",{"$f":"IF(ISBLANK(Лист1!G57),\"\",CONCATENATE(Лист1!G57,\"/\",Лист1!$C$3))","v":""},{"$f":"IF(ISBLANK(Лист1!G57),\"\",CONCATENATE(Лист1!G57,\"/\",Лист1!$C$3))","v":""},"",{"$f":"IF(ISBLANK(Лист1!H57),\"\",CONCATENATE(Лист1!H57,\"/\",Лист1!$C$3))","v":""},{"$f":"IF(ISBLANK(Лист1!H57),\"\",CONCATENATE(Лист1!H57,\"/\",Лист1!$C$3))","v":""},""]
[null,{"$f":"Лист1!A58","v":"Поз.51"},null,{"$f":"Лист1!B58","v":0},{"$f":"Лист1!C58","v":0},{"$f":"Лист1!D58","v":0},null,{"$f":"IF(ISBLANK(Лист1!E58),\"\",CONCATENATE(Лист1!E58,\"/\",Лист1!$C$3))","v":""},{"$f":"IF(ISBLANK(Лист1!E58),\"\",CONCATENATE(Лист1!E58,\"/\",Лист1!$C$3))","v":""},"",{"$f":"IF(ISBLANK(Лист1!F58),\"\",CONCATENATE(Лист1!F58,\"/\",Лист1!$C$3))","v":""},{"$f":"IF(ISBLANK(Лист1!F58),\"\",CONCATENATE(Лист1!F58,\"/\",Лист1!$C$3))","v":""},"",{"$f":"IF(ISBLANK(Лист1!G58),\"\",CONCATENATE(Лист1!G58,\"/\",Лист1!$C$3))","v":""},{"$f":"IF(ISBLANK(Лист1!G58),\"\",CONCATENATE(Лист1!G58,\"/\",Лист1!$C$3))","v":""},"",{"$f":"IF(ISBLANK(Лист1!H58),\"\",CONCATENATE(Лист1!H58,\"/\",Лист1!$C$3))","v":""},{"$f":"IF(ISBLANK(Лист1!H58),\"\",CONCATENATE(Лист1!H58,\"/\",Лист1!$C$3))","v":""},""]
[null,{"$f":"Лист1!A59","v":"Поз.52"},null,{"$f":"Лист1!B59","v":0},{"$f":"Лист1!C59","v":0},{"$f":"Лист1!D59","v":0},null,{"$f":"IF(ISBLANK(Лист1!E59),\"\",CONCATENATE(Лист1!E59,\"/\",Лист1!$C$3))","v":""},{"$f":"IF(ISBLANK(Лист1!E59),\"\",CONCATENATE(Лист1!E59,\"/\",Лист1!$C$3))","v":""},"",{"$f":"IF(ISBLANK(Лист1!F59),\"\",CONCATENATE(Лист1!F59,\"/\",Лист1!$C$3))","v":""},{"$f":"IF(ISBLANK(Лист1!F59),\"\",CONCATENATE(Лист1!F59,\"/\",Лист1!$C$3))","v":""},"",{"$f":"IF(ISBLANK(Лист1!G59),\"\",CONCATENATE(Лист1!G59,\"/\",Лист1!$C$3))","v":""},{"$f":"IF(ISBLANK(Лист1!G59),\"\",CONCATENATE(Лист1!G59,\"/\",Лист1!$C$3))","v":""},"",{"$f":"IF(ISBLANK(Лист1!H59),\"\",CONCATENATE(Лист1!H59,\"/\",Лист1!$C$3))","v":""},{"$f":"IF(ISBLANK(Лист1!H59),\"\",CONCATENATE(Лист1!H59,\"/\",Лист1!$C$3))","v":""},""]
[null,{"$f":"Лист1!A60","v":"Поз.53"},null,{"$f":"Лист1!B60","v":0},{"$f":"Лист1!C60","v":0},{"$f":"Лист1!D60","v":0},null,{"$f":"IF(ISBLANK(Лист1!E60),\"\",CONCATENATE(Лист1!E60,\"/\",Лист1!$C$3))","v":""},{"$f":"IF(ISBLANK(Лист1!E60),\"\",CONCATENATE(Лист1!E60,\"/\",Лист1!$C$3))","v":""},"",{"$f":"IF(ISBLANK(Лист1!F60),\"\",CONCATENATE(Лист1!F60,\"/\",Лист1!$C$3))","v":""},{"$f":"IF(ISBLANK(Лист1!F60),\"\",CONCATENATE(Лист1!F60,\"/\",Лист1!$C$3))","v":""},"",{"$f":"IF(ISBLANK(Лист1!G60),\"\",CONCATENATE(Лист1!G60,\"/\",Лист1!$C$3))","v":""},{"$f":"IF(ISBLANK(Лист1!G60),\"\",CONCATENATE(Лист1!G60,\"/\",Лист1!$C$3))","v":""},"",{"$f":"IF(ISBLANK(Лист1!H60),\"\",CONCATENATE(Лист1!H60,\"/\",Лист1!$C$3))","v":""},{"$f":"IF(ISBLANK(Лист1!H60),\"\",CONCATENATE(Лист1!H60,\"/\",Лист1!$C$3))","v":""},""]
[null,{"$f":"Лист1!A61","v":"Поз.54"},null,{"$f":"Лист1!B61","v":0},{"$f":"Лист1!C61","v":0},{"$f":"Лист1!D61","v":0},null,{"$f":"IF(ISBLANK(Лист1!E61),\"\",CONCATENATE(Лист1!E61,\"/\",Лист1!$C$3))","v":""},{"$f":"IF(ISBLANK(Лист1!E61),\"\",CONCATENATE(Лист1!E61,\"/\",Лист1!$C$3))","v":""},"",{"$f":"IF(ISBLANK(Лист1!F61),\"\",CONCATENATE(Лист1!F61,\"/\",Лист1!$C$3))","v":""},{"$f":"IF(ISBLANK(Лист1!F61),\"\",CONCATENATE(Лист1!F61,\"/\",Лист1!$C$3))","v":""},"",{"$f":"IF(ISBLANK(Лист1!G61),\"\",CONCATENATE(Лист1!G61,\"/\",Лист1!$C$3))","v":""},{"$f":"IF(ISBLANK(Лист1!G61),\"\",CONCATENATE(Лист1!G61,\"/\",Лист1!$C$3))","v":""},"",{"$f":"IF(ISBLANK(Лист1!H61),\"\",CONCATENATE(Лист1!H61,\"/\",Лист1!$C$3))","v":""},{"$f":"IF(ISBLANK(Лист1!H61),\"\",CONCATENATE(Лист1!H61,\"/\",Лист1!$C$3))","v":""},""]
[null,{"$f":"Лист1!A62","v":"Поз.55"},null,{"$f":"Лист1!B62","v":0},{"$f":"Лист1!C62","v":0},{"$f":"Лист1!D62","v":0},null,{"$f":"IF(ISBLANK(Лист1!E62),\"\",CONCATENATE(Лист1!E62,\"/\",Лист1!$C$3))","v":""},{"$f":"IF(ISBLANK(Лист1!E62),\"\",CONCATENATE(Лист1!E62,\"/\",Лист1!$C$3))","v":""},"",{"$f":"IF(ISBLANK(Лист1!F62),\"\",CONCATENATE(Лист1!F62,\"/\",Лист1!$C$3))","v":""},{"$f":"IF(ISBLANK(Лист1!F62),\"\",CONCATENATE(Лист1!F62,\"/\",Лист1!$C$3))","v":""},"",{"$f":"IF(ISBLANK(Лист1!G62),\"\",CONCATENATE(Лист1!G62,\"/\",Лист1!$C$3))","v":""},{"$f":"IF(ISBLANK(Лист1!G62),\"\",CONCATENATE(Лист1!G62,\"/\",Лист1!$C$3))","v":""},"",{"$f":"IF(ISBLANK(Лист1!H62),\"\",CONCATENATE(Лист1!H62,\"/\",Лист1!$C$3))","v":""},{"$f":"IF(ISBLANK(Лист1!H62),\"\",CONCATENATE(Лист1!H62,\"/\",Лист1!$C$3))","v":""},""]
[null,{"$f":"Лист1!A63","v":"Поз.56"},null,{"$f":"Лист1!B63","v":0},{"$f":"Лист1!C63","v":0},{"$f":"Лист1!D63","v":0},null,{"$f":"IF(ISBLANK(Лист1!E63),\"\",CONCATENATE(Лист1!E63,\"/\",Лист1!$C$3))","v":""},{"$f":"IF(ISBLANK(Лист1!E63),\"\",CONCATENATE(Лист1!E63,\"/\",Лист1!$C$3))","v":""},"",{"$f":"IF(ISBLANK(Лист1!F63),\"\",CONCATENATE(Лист1!F63,\"/\",Лист1!$C$3))","v":""},{"$f":"IF(ISBLANK(Лист1!F63),\"\",CONCATENATE(Лист1!F63,\"/\",Лист1!$C$3))","v":""},"",{"$f":"IF(ISBLANK(Лист1!G63),\"\",CONCATENATE(Лист1!G63,\"/\",Лист1!$C$3))","v":""},{"$f":"IF(ISBLANK(Лист1!G63),\"\",CONCATENATE(Лист1!G63,\"/\",Лист1!$C$3))","v":""},"",{"$f":"IF(ISBLANK(Лист1!H63),\"\",CONCATENATE(Лист1!H63,\"/\",Лист1!$C$3))","v":""},{"$f":"IF(ISBLANK(Лист1!H63),\"\",CONCATENATE(Лист1!H63,\"/\",Лист1!$C$3))","v":""},""]
[null,{"$f":"Лист1!A64","v":"Поз.57"},null,{"$f":"Лист1!B64","v":0},{"$f":"Лист1!C64","v":0},{"$f":"Лист1!D64","v":0},null,{"$f":"IF(ISBLANK(Лист1!E64),\"\",CONCATENATE(Лист1!E64,\"/\",Лист1!$C$3))","v":""},{"$f":"IF(ISBLANK(Лист1!E64),\"\",CONCATENATE(Лист1!E64,\"/\",Лист1!$C$3))","v":""},"",{"$f":"IF(ISBLANK(Лист1!F64),\"\",CONCATENATE(Лист1!F64,\"/\",Лист1!$C$3))","v":""},{"$f":"IF(ISBLANK(Лист1!F64),\"\",CONCATENATE(Лист1!F64,\"/\",Лист1!$C$3))","v":""},"",{"$f":"IF(ISBLANK(Лист1!G64),\"\",CONCATENATE(Лист1!G64,\"/\",Лист1!$C$3))","v":""},{"$f":"IF(ISBLANK(Лист1!G64),\"\",CONCATENATE(Лист1!G64,\"/\",Лист1!$C$3))","v":""},"",{"$f":"IF(ISBLANK(Лист1!H64),\"\",CONCATENATE(Лист1!H64,\"/\",Лист1!$C$3))","v":""},{"$f":"IF(ISBLANK(Лист1!H64),\"\",CONCATENATE(Лист1!H64,\"/\",Лист1!$C$3))","v":""},""]
[null,{"$f":"Лист1!A65","v":"Поз.58"},null,{"$f":"Лист1!B65","v":0},{"$f":"Лист1!C65","v":0},{"$f":"Лист1!D65","v":0},null,{"$f":"IF(ISBLANK(Лист1!E65),\"\",CONCATENATE(Лист1!E65,\"/\",Лист1!$C$3))","v":""},{"$f":"IF(ISBLANK(Лист1!E65),\"\",CONCATENATE(Лист1!E65,\"/\",Лист1!$C$3))","v":""},"",{"$f":"IF(ISBLANK(Лист1!F65),\"\",CONCATENATE(Лист1!F65,\"/\",Лист1!$C$3))","v":""},{"$f":"IF(ISBLANK(Лист1!F65),\"\",CONCATENATE(Лист1!F65,\"/\",Лист1!$C$3))","v":""},"",{"$f":"IF(ISBLANK(Лист1!G65),\"\",CONCATENATE(Лист1!G65,\"/\",Лист1!$C$3))","v":""},{"$f":"IF(ISBLANK(Лист1!G65),\"\",CONCATENATE(Лист1!G65,\"/\",Лист1!$C$3))","v":""},"",{"$f":"IF(ISBLANK(Лист1!H65),\"\",CONCATENATE(Лист1!H65,\"/\",Лист1!$C$3))","v":""},{"$f":"IF(ISBLANK(Лист1!H65),\"\",CONCATENATE(Лист1!H65,\"/\",Лист1!$C$3))","v":""},""]
[null,{"$f":"Лист1!A66","v":"Поз.59"},null,{"$f":"Лист1!B66","v":0},{"$f":"Лист1!C66","v":0},{"$f":"Лист1!D66","v":0},null,{"$f":"IF(ISBLANK(Лист1!E66),\"\",CONCATENATE(Лист1!E66,\"/\",Лист1!$C$3))","v":""},{"$f":"IF(ISBLANK(Лист1!E66),\"\",CONCATENATE(Лист1!E66,\"/\",Лист1!$C$3))","v":""},"",{"$f":"IF(ISBLANK(Лист1!F66),\"\",CONCATENATE(Лист1!F66,\"/\",Лист1!$C$3))","v":""},{"$f":"IF(ISBLANK(Лист1!F66),\"\",CONCATENATE(Лист1!F66,\"/\",Лист1!$C$3))","v":""},"",{"$f":"IF(ISBLANK(Лист1!G66),\"\",CONCATENATE(Лист1!G66,\"/\",Лист1!$C$3))","v":""},{"$f":"IF(ISBLANK(Лист1!G66),\"\",CONCATENATE(Лист1!G66,\"/\",Лист1!$C$3))","v":""},"",{"$f":"IF(ISBLANK(Лист1!H66),\"\",CONCATENATE(Лист1!H66,\"/\",Лист1!$C$3))","v":""},{"$f":"IF(ISBLANK(Лист1!H66),\"\",CONCATENATE(Лист1!H66,\"/\",Лист1!$C$3))","v":""},""]
[null,{"$f":"Лист1!A67","v":"Поз.60"},null,{"$f":"Лист1!B67","v":0},{"$f":"Лист1!C67","v":0},{"$f":"Лист1!D67","v":0},null,{"$f":"IF(ISBLANK(Лист1!E67),\"\",CONCATENATE(Лист1!E67,\"/\",Лист1!$C$3))","v":""},{"$f":"IF(ISBLANK(Лист1!E67),\"\",CONCATENATE(Лист1!E67,\"/\",Лист1!$C$3))","v":""},"",{"$f":"IF(ISBLANK(Лист1!F67),\"\",CONCATENATE(Лист1!F67,\"/\",Лист1!$C$3))","v":""},{"$f":"IF(ISBLANK(Лист1!F67),\"\",CONCATENATE(Лист1!F67,\"/\",Лист1!$C$3))","v":""},"",{"$f":"IF(ISBLANK(Лист1!G67),\"\",CONCATENATE(Лист1!G67,\"/\",Лист1!$C$3))","v":""},{"$f":"IF(ISBLANK(Лист1!G67),\"\",CONCATENATE(Лист1!G67,\"/\",Лист1!$C$3))","v":""},"",{"$f":"IF(ISBLANK(Лист1!H67),\"\",CONCATENATE(Лист1!H67,\"/\",Лист1!$C$3))","v":""},{"$f":"IF(ISBLANK(Лист1!H67),\"\",CONCATENATE(Лист1!H67,\"/\",Лист1!$C$3))","v":""},""]
[null,{"$f":"Лист1!A68","v":"Поз.61"},null,{"$f":"Лист1!B68","v":0},{"$f":"Лист1!C68","v":0},{"$f":"Лист1!D68","v":0},null,{"$f":"IF(ISBLANK(Лист1!E68),\"\",CONCATENATE(Лист1!E68,\"/\",Лист1!$C$3))","v":""},{"$f":"IF(ISBLANK(Лист1!E68),\"\",CONCATENATE(Лист1!E68,\"/\",Лист1!$C$3))","v":""},"",{"$f":"IF(ISBLANK(Лист1!F68),\"\",CONCATENATE(Лист1!F68,\"/\",Лист1!$C$3))","v":""},{"$f":"IF(ISBLANK(Лист1!F68),\"\",CONCATENATE(Лист1!F68,\"/\",Лист1!$C$3))","v":""},"",{"$f":"IF(ISBLANK(Лист1!G68),\"\",CONCATENATE(Лист1!G68,\"/\",Лист1!$C$3))","v":""},{"$f":"IF(ISBLANK(Лист1!G68),\"\",CONCATENATE(Лист1!G68,\"/\",Лист1!$C$3))","v":""},"",{"$f":"IF(ISBLANK(Лист1!H68),\"\",CONCATENATE(Лист1!H68,\"/\",Лист1!$C$3))","v":""},{"$f":"IF(ISBLANK(Лист1!H68),\"\",CONCATENATE(Лист1!H68,\"/\",Лист1!$C$3))","v":""},""]
[null,{"$f":"Лист1!A69","v":"Поз.62"},null,{"$f":"Лист1!B69","v":0},{"$f":"Лист1!C69","v":0},{"$f":"Лист1!D69","v":0},null,{"$f":"IF(ISBLANK(Лист1!E69),\"\",CONCATENATE(Лист1!E69,\"/\",Лист1!$C$3))","v":""},{"$f":"IF(ISBLANK(Лист1!E69),\"\",CONCATENATE(Лист1!E69,\"/\",Лист1!$C$3))","v":""},"",{"$f":"IF(ISBLANK(Лист1!F69),\"\",CONCATENATE(Лист1!F69,\"/\",Лист1!$C$3))","v":""},{"$f":"IF(ISBLANK(Лист1!F69),\"\",CONCATENATE(Лист1!F69,\"/\",Лист1!$C$3))","v":""},"",{"$f":"IF(ISBLANK(Лист1!G69),\"\",CONCATENATE(Лист1!G69,\"/\",Лист1!$C$3))","v":""},{"$f":"IF(ISBLANK(Лист1!G69),\"\",CONCATENATE(Лист1!G69,\"/\",Лист1!$C$3))","v":""},"",{"$f":"IF(ISBLANK(Лист1!H69),\"\",CONCATENATE(Лист1!H69,\"/\",Лист1!$C$3))","v":""},{"$f":"IF(ISBLANK(Лист1!H69),\"\",CONCATENATE(Лист1!H69,\"/\",Лист1!$C$3))","v":""},""]
[null,{"$f":"Лист1!A70","v":"Поз.63"},null,{"$f":"Лист1!B70","v":0},{"$f":"Лист1!C70","v":0},{"$f":"Лист1!D70","v":0},null,{"$f":"IF(ISBLANK(Лист1!E70),\"\",CONCATENATE(Лист1!E70,\"/\",Лист1!$C$3))","v":""},{"$f":"IF(ISBLANK(Лист1!E70),\"\",CONCATENATE(Лист1!E70,\"/\",Лист1!$C$3))","v":""},"",{"$f":"IF(ISBLANK(Лист1!F70),\"\",CONCATENATE(Лист1!F70,\"/\",Лист1!$C$3))","v":""},{"$f":"IF(ISBLANK(Лист1!F70),\"\",CONCATENATE(Лист1!F70,\"/\",Лист1!$C$3))","v":""},"",{"$f":"IF(ISBLANK(Лист1!G70),\"\",CONCATENATE(Лист1!G70,\"/\",Лист1!$C$3))","v":""},{"$f":"IF(ISBLANK(Лист1!G70),\"\",CONCATENATE(Лист1!G70,\"/\",Лист1!$C$3))","v":""},"",{"$f":"IF(ISBLANK(Лист1!H70),\"\",CONCATENATE(Лист1!H70,\"/\",Лист1!$C$3))","v":""},{"$f":"IF(ISBLANK(Лист1!H70),\"\",CONCATENATE(Лист1!H70,\"/\",Лист1!$C$3))","v":""},""]
[null,{"$f":"Лист1!A71","v":"Поз.64"},null,{"$f":"Лист1!B71","v":0},{"$f":"Лист1!C71","v":0},{"$f":"Лист1!D71","v":0},null,{"$f":"IF(ISBLANK(Лист1!E71),\"\",CONCATENATE(Лист1!E71,\"/\",Лист1!$C$3))","v":""},{"$f":"IF(ISBLANK(Лист1!E71),\"\",CONCATENATE(Лист1!E71,\"/\",Лист1!$C$3))","v":""},"",{"$f":"IF(ISBLANK(Лист1!F71),\"\",CONCATENATE(Лист1!F71,\"/\",Лист1!$C$3))","v":""},{"$f":"IF(ISBLANK(Лист1!F71),\"\",CONCATENATE(Лист1!F71,\"/\",Лист1!$C$3))","v":""},"",{"$f":"IF(ISBLANK(Лист1!G71),\"\",CONCATENATE(Лист1!G71,\"/\",Лист1!$C$3))","v":""},{"$f":"IF(ISBLANK(Лист1!G71),\"\",CONCATENATE(Лист1!G71,\"/\",Лист1!$C$3))","v":""},"",{"$f":"IF(ISBLANK(Лист1!H71),\"\",CONCATENATE(Лист1!H71,\"/\",Лист1!$C$3))","v":""},{"$f":"IF(ISBLANK(Лист1!H71),\"\",CONCATENATE(Лист1!H71,\"/\",Лист1!$C$3))","v":""},""]
[null,{"$f":"Лист1!A72","v":"Поз.65"},null,{"$f":"Лист1!B72","v":0},{"$f":"Лист1!C72","v":0},{"$f":"Лист1!D72","v":0},null,{"$f":"IF(ISBLANK(Лист1!E72),\"\",CONCATENATE(Лист1!E72,\"/\",Лист1!$C$3))","v":""},{"$f":"IF(ISBLANK(Лист1!E72),\"\",CONCATENATE(Лист1!E72,\"/\",Лист1!$C$3))","v":""},"",{"$f":"IF(ISBLANK(Лист1!F72),\"\",CONCATENATE(Лист1!F72,\"/\",Лист1!$C$3))","v":""},{"$f":"IF(ISBLANK(Лист1!F72),\"\",CONCATENATE(Лист1!F72,\"/\",Лист1!$C$3))","v":""},"",{"$f":"IF(ISBLANK(Лист1!G72),\"\",CONCATENATE(Лист1!G72,\"/\",Лист1!$C$3))","v":""},{"$f":"IF(ISBLANK(Лист1!G72),\"\",CONCATENATE(Лист1!G72,\"/\",Лист1!$C$3))","v":""},"",{"$f":"IF(ISBLANK(Лист1!H72),\"\",CONCATENATE(Лист1!H72,\"/\",Лист1!$C$3))","v":""},{"$f":"IF(ISBLANK(Лист1!H72),\"\",CONCATENATE(Лист1!H72,\"/\",Лист1!$C$3))","v":""},""]
[null,{"$f":"Лист1!A73","v":"Поз.66"},null,{"$f":"Лист1!B73","v":0},{"$f":"Лист1!C73","v":0},{"$f":"Лист1!D73","v":0},null,{"$f":"IF(ISBLANK(Лист1!E73),\"\",CONCATENATE(Лист1!E73,\"/\",Лист1!$C$3))","v":""},{"$f":"IF(ISBLANK(Лист1!E73),\"\",CONCATENATE(Лист1!E73,\"/\",Лист1!$C$3))","v":""},"",{"$f":"IF(ISBLANK(Лист1!F73),\"\",CONCATENATE(Лист1!F73,\"/\",Лист1!$C$3))","v":""},{"$f":"IF(ISBLANK(Лист1!F73),\"\",CONCATENATE(Лист1!F73,\"/\",Лист1!$C$3))","v":""},"",{"$f":"IF(ISBLANK(Лист1!G73),\"\",CONCATENATE(Лист1!G73,\"/\",Лист1!$C$3))","v":""},{"$f":"IF(ISBLANK(Лист1!G73),\"\",CONCATENATE(Лист1!G73,\"/\",Лист1!$C$3))","v":""},"",{"$f":"IF(ISBLANK(Лист1!H73),\"\",CONCATENATE(Лист1!H73,\"/\",Лист1!$C$3))","v":""},{"$f":"IF(ISBLANK(Лист1!H73),\"\",CONCATENATE(Лист1!H73,\"/\",Лист1!$C$3))","v":""},""]
[null,{"$f":"Лист1!A74","v":"Поз.67"},null,{"$f":"Лист1!B74","v":0},{"$f":"Лист1!C74","v":0},{"$f":"Лист1!D74","v":0},null,{"$f":"IF(ISBLANK(Лист1!E74),\"\",CONCATENATE(Лист1!E74,\"/\",Лист1!$C$3))","v":""},{"$f":"IF(ISBLANK(Лист1!E74),\"\",CONCATENATE(Лист1!E74,\"/\",Лист1!$C$3))","v":""},{"$f":"IF(LEFT(I67,1)=\"0\",0.4,IF(LEFT(I67,1)=\"1\",1,IF(LEFT(I67,1)=\"2\",2,\"\")))","v":""},{"$f":"IF(ISBLANK(Лист1!F74),\"\",CONCATENATE(Лист1!F74,\"/\",Лист1!$C$3))","v":""},{"$f":"IF(ISBLANK(Лист1!F74),\"\",CONCATENATE(Лист1!F74,\"/\",Лист1!$C$3))","v":""},{"$f":"IF(LEFT(L67,1)=\"0\",0.4,IF(LEFT(L67,1)=\"1\",1,IF(LEFT(L67,1)=\"2\",2,\"\")))","v":""},{"$f":"IF(ISBLANK(Лист1!G74),\"\",CONCATENATE(Лист1!G74,\"/\",Лист1!$C$3))","v":""},{"$f":"IF(ISBLANK(Лист1!G74),\"\",CONCATENATE(Лист1!G74,\"/\",Лист1!$C$3))","v":""},{"$f":"IF(LEFT(O67,1)=\"0\",0.4,IF(LEFT(O67,1)=\"1\",1,IF(LEFT(O67,1)=\"2\",2,\"\")))","v":""},{"$f":"IF(ISBLANK(Лист1!H74),\"\",CONCATENATE(Лист1!H74,\"/\",Лист1!$C$3))","v":""},{"$f":"IF(ISBLANK(Лист1!H74),\"\",CONCATENATE(Лист1!H74,\"/\",Лист1!$C$3))","v":""},{"$f":"IF(LEFT(R67,1)=\"0\",0.4,IF(LEFT(R67,1)=\"1\",1,IF(LEFT(R67,1)=\"2\",2,\"\")))","v":""}]
[null,{"$f":"Лист1!A75","v":"Поз.68"},null,{"$f":"Лист1!B75","v":0},{"$f":"Лист1!C75","v":0},{"$f":"Лист1!D75","v":0},null,{"$f":"IF(ISBLANK(Лист1!E75),\"\",CONCATENATE(Лист1!E75,\"/\",Лист1!$C$3))","v":""},{"$f":"IF(ISBLANK(Лист1!E75),\"\",CONCATENATE(Лист1!E75,\"/\",Лист1!$C$3))","v":""},"",{"$f":"IF(ISBLANK(Лист1!F75),\"\",CONCATENATE(Лист1!F75,\"/\",Лист1!$C$3))","v":""},{"$f":"IF(ISBLANK(Лист1!F75),\"\",CONCATENATE(Лист1!F75,\"/\",Лист1!$C$3))","v":""},"",{"$f":"IF(ISBLANK(Лист1!G75),\"\",CONCATENATE(Лист1!G75,\"/\",Лист1!$C$3))","v":""},{"$f":"IF(ISBLANK(Лист1!G75),\"\",CONCATENATE(Лист1!G75,\"/\",Лист1!$C$3))","v":""},"",{"$f":"IF(ISBLANK(Лист1!H75),\"\",CONCATENATE(Лист1!H75,\"/\",Лист1!$C$3))","v":""},{"$f":"IF(ISBLANK(Лист1!H75),\"\",CONCATENATE(Лист1!H75,\"/\",Лист1!$C$3))","v":""},""]
[null,{"$f":"Лист1!A76","v":"Поз.69"},null,{"$f":"Лист1!B76","v":0},{"$f":"Лист1!C76","v":0},{"$f":"Лист1!D76","v":0},null,{"$f":"IF(ISBLANK(Лист1!E76),\"\",CONCATENATE(Лист1!E76,\"/\",Лист1!$C$3))","v":""},{"$f":"IF(ISBLANK(Лист1!E76),\"\",CONCATENATE(Лист1!E76,\"/\",Лист1!$C$3))","v":""},"",{"$f":"IF(ISBLANK(Лист1!F76),\"\",CONCATENATE(Лист1!F76,\"/\",Лист1!$C$3))","v":""},{"$f":"IF(ISBLANK(Лист1!F76),\"\",CONCATENATE(Лист1!F76,\"/\",Лист1!$C$3))","v":""},"",{"$f":"IF(ISBLANK(Лист1!G76),\"\",CONCATENATE(Лист1!G76,\"/\",Лист1!$C$3))","v":""},{"$f":"IF(ISBLANK(Лист1!G76),\"\",CONCATENATE(Лист1!G76,\"/\",Лист1!$C$3))","v":""},"",{"$f":"IF(ISBLANK(Лист1!H76),\"\",CONCATENATE(Лист1!H76,\"/\",Лист1!$C$3))","v":""},{"$f":"IF(ISBLANK(Лист1!H76),\"\",CONCATENATE(Лист1!H76,\"/\",Лист1!$C$3))","v":""},""]
[null,{"$f":"Лист1!A77","v":"Поз.70"},null,{"$f":"Лист1!B77","v":0},{"$f":"Лист1!C77","v":0},{"$f":"Лист1!D77","v":0},null,{"$f":"IF(ISBLANK(Лист1!E77),\"\",CONCATENATE(Лист1!E77,\"/\",Лист1!$C$3))","v":""},{"$f":"IF(ISBLANK(Лист1!E77),\"\",CONCATENATE(Лист1!E77,\"/\",Лист1!$C$3))","v":""},"",{"$f":"IF(ISBLANK(Лист1!F77),\"\",CONCATENATE(Лист1!F77,\"/\",Лист1!$C$3))","v":""},{"$f":"IF(ISBLANK(Лист1!F77),\"\",CONCATENATE(Лист1!F77,\"/\",Лист1!$C$3))","v":""},"",{"$f":"IF(ISBLANK(Лист1!G77),\"\",CONCATENATE(Лист1!G77,\"/\",Лист1!$C$3))","v":""},{"$f":"IF(ISBLANK(Лист1!G77),\"\",CONCATENATE(Лист1!G77,\"/\",Лист1!$C$3))","v":""},"",{"$f":"IF(ISBLANK(Лист1!H77),\"\",CONCATENATE(Лист1!H77,\"/\",Лист1!$C$3))","v":""},{"$f":"IF(ISBLANK(Лист1!H77),\"\",CONCATENATE(Лист1!H77,\"/\",Лист1!$C$3))","v":""},""]
[null,{"$f":"Лист1!A78","v":"Поз.71"},null,{"$f":"Лист1!B78","v":0},{"$f":"Лист1!C78","v":0},{"$f":"Лист1!D78","v":0},null,{"$f":"IF(ISBLANK(Лист1!E78),\"\",CONCATENATE(Лист1!E78,\"/\",Лист1!$C$3))","v":""},{"$f":"IF(ISBLANK(Лист1!E78),\"\",CONCATENATE(Лист1!E78,\"/\",Лист1!$C$3))","v":""},"",{"$f":"IF(ISBLANK(Лист1!F78),\"\",CONCATENATE(Лист1!F78,\"/\",Лист1!$C$3))","v":""},{"$f":"IF(ISBLANK(Лист1!F78),\"\",CONCATENATE(Лист1!F78,\"/\",Лист1!$C$3))","v":""},"",{"$f":"IF(ISBLANK(Лист1!G78),\"\",CONCATENATE(Лист1!G78,\"/\",Лист1!$C$3))","v":""},{"$f":"IF(ISBLANK(Лист1!G78),\"\",CONCATENATE(Лист1!G78,\"/\",Лист1!$C$3))","v":""},"",{"$f":"IF(ISBLANK(Лист1!H78),\"\",CONCATENATE(Лист1!H78,\"/\",Лист1!$C$3))","v":""},{"$f":"IF(ISBLANK(Лист1!H78),\"\",CONCATENATE(Лист1!H78,\"/\",Лист1!$C$3))","v":""},""]
[null,{"$f":"Лист1!A79","v":"Поз.72"},null,{"$f":"Лист1!B79","v":0},{"$f":"Лист1!C79","v":0},{"$f":"Лист1!D79","v":0},null,{"$f":"IF(ISBLANK(Лист1!E79),\"\",CONCATENATE(Лист1!E79,\"/\",Лист1!$C$3))","v":""},{"$f":"IF(ISBLANK(Лист1!E79),\"\",CONCATENATE(Лист1!E79,\"/\",Лист1!$C$3))","v":""},"",{"$f":"IF(ISBLANK(Лист1!F79),\"\",CONCATENATE(Лист1!F79,\"/\",Лист1!$C$3))","v":""},{"$f":"IF(ISBLANK(Лист1!F79),\"\",CONCATENATE(Лист1!F79,\"/\",Лист1!$C$3))","v":""},"",{"$f":"IF(ISBLANK(Лист1!G79),\"\",CONCATENATE(Лист1!G79,\"/\",Лист1!$C$3))","v":""},{"$f":"IF(ISBLANK(Лист1!G79),\"\",CONCATENATE(Лист1!G79,\"/\",Лист1!$C$3))","v":""},"",{"$f":"IF(ISBLANK(Лист1!H79),\"\",CONCATENATE(Лист1!H79,\"/\",Лист1!$C$3))","v":""},{"$f":"IF(ISBLANK(Лист1!H79),\"\",CONCATENATE(Лист1!H79,\"/\",Лист1!$C$3))","v":""},""]
[null,{"$f":"Лист1!A80","v":"Поз.73"},null,{"$f":"Лист1!B80","v":0},{"$f":"Лист1!C80","v":0},{"$f":"Лист1!D80","v":0},null,{"$f":"IF(ISBLANK(Лист1!E80),\"\",CONCATENATE(Лист1!E80,\"/\",Лист1!$C$3))","v":""},{"$f":"IF(ISBLANK(Лист1!E80),\"\",CONCATENATE(Лист1!E80,\"/\",Лист1!$C$3))","v":""},"",{"$f":"IF(ISBLANK(Лист1!F80),\"\",CONCATENATE(Лист1!F80,\"/\",Лист1!$C$3))","v":""},{"$f":"IF(ISBLANK(Лист1!F80),\"\",CONCATENATE(Лист1!F80,\"/\",Лист1!$C$3))","v":""},"",{"$f":"IF(ISBLANK(Лист1!G80),\"\",CONCATENATE(Лист1!G80,\"/\",Лист1!$C$3))","v":""},{"$f":"IF(ISBLANK(Лист1!G80),\"\",CONCATENATE(Лист1!G80,\"/\",Лист1!$C$3))","v":""},"",{"$f":"IF(ISBLANK(Лист1!H80),\"\",CONCATENATE(Лист1!H80,\"/\",Лист1!$C$3))","v":""},{"$f":"IF(ISBLANK(Лист1!H80),\"\",CONCATENATE(Лист1!H80,\"/\",Лист1!$C$3))","v":""},""]
[null,{"$f":"Лист1!A81","v":"Поз.74"},null,{"$f":"Лист1!B81","v":0},{"$f":"Лист1!C81","v":0},{"$f":"Лист1!D81","v":0},null,{"$f":"IF(ISBLANK(Лист1!E81),\"\",CONCATENATE(Лист1!E81,\"/\",Лист1!$C$3))","v":""},{"$f":"IF(ISBLANK(Лист1!E81),\"\",CONCATENATE(Лист1!E81,\"/\",Лист1!$C$3))","v":""},"",{"$f":"IF(ISBLANK(Лист1!F81),\"\",CONCATENATE(Лист1!F81,\"/\",Лист1!$C$3))","v":""},{"$f":"IF(ISBLANK(Лист1!F81),\"\",CONCATENATE(Лист1!F81,\"/\",Лист1!$C$3))","v":""},"",{"$f":"IF(ISBLANK(Лист1!G81),\"\",CONCATENATE(Лист1!G81,\"/\",Лист1!$C$3))","v":""},{"$f":"IF(ISBLANK(Лист1!G81),\"\",CONCATENATE(Лист1!G81,\"/\",Лист1!$C$3))","v":""},"",{"$f":"IF(ISBLANK(Лист1!H81),\"\",CONCATENATE(Лист1!H81,\"/\",Лист1!$C$3))","v":""},{"$f":"IF(ISBLANK(Лист1!H81),\"\",CONCATENATE(Лист1!H81,\"/\",Лист1!$C$3))","v":""},""]
[null,{"$f":"Лист1!A82","v":"Поз.75"},null,{"$f":"Лист1!B82","v":0},{"$f":"Лист1!C82","v":0},{"$f":"Лист1!D82","v":0},null,{"$f":"IF(ISBLANK(Лист1!E82),\"\",CONCATENATE(Лист1!E82,\"/\",Лист1!$C$3))","v":""},{"$f":"IF(ISBLANK(Лист1!E82),\"\",CONCATENATE(Лист1!E82,\"/\",Лист1!$C$3))","v":""},"",{"$f":"IF(ISBLANK(Лист1!F82),\"\",CONCATENATE(Лист1!F82,\"/\",Лист1!$C$3))","v":""},{"$f":"IF(ISBLANK(Лист1!F82),\"\",CONCATENATE(Лист1!F82,\"/\",Лист1!$C$3))","v":""},"",{"$f":"IF(ISBLANK(Лист1!G82),\"\",CONCATENATE(Лист1!G82,\"/\",Лист1!$C$3))","v":""},{"$f":"IF(ISBLANK(Лист1!G82),\"\",CONCATENATE(Лист1!G82,\"/\",Лист1!$C$3))","v":""},"",{"$f":"IF(ISBLANK(Лист1!H82),\"\",CONCATENATE(Лист1!H82,\"/\",Лист1!$C$3))","v":""},{"$f":"IF(ISBLANK(Лист1!H82),\"\",CONCATENATE(Лист1!H82,\"/\",Лист1!$C$3))","v":""},""]
[null,{"$f":"Лист1!A83","v":"Поз.76"},null,{"$f":"Лист1!B83","v":0},{"$f":"Лист1!C83","v":0},{"$f":"Лист1!D83","v":0},null,{"$f":"IF(ISBLANK(Лист1!E83),\"\",CONCATENATE(Лист1!E83,\"/\",Лист1!$C$3))","v":""},{"$f":"IF(ISBLANK(Лист1!E83),\"\",CONCATENATE(Лист1!E83,\"/\",Лист1!$C$3))","v":""},"",{"$f":"IF(ISBLANK(Лист1!F83),\"\",CONCATENATE(Лист1!F83,\"/\",Лист1!$C$3))","v":""},{"$f":"IF(ISBLANK(Лист1!F83),\"\",CONCATENATE(Лист1!F83,\"/\",Лист1!$C$3))","v":""},"",{"$f":"IF(ISBLANK(Лист1!G83),\"\",CONCATENATE(Лист1!G83,\"/\",Лист1!$C$3))","v":""},{"$f":"IF(ISBLANK(Лист1!G83),\"\",CONCATENATE(Лист1!G83,\"/\",Лист1!$C$3))","v":""},"",{"$f":"IF(ISBLANK(Лист1!H83),\"\",CONCATENATE(Лист1!H83,\"/\",Лист1!$C$3))","v":""},{"$f":"IF(ISBLANK(Лист1!H83),\"\",CONCATENATE(Лист1!H83,\"/\",Лист1!$C$3))","v":""},""]
[null,{"$f":"Лист1!A84","v":"Поз.77"},null,{"$f":"Лист1!B84","v":0},{"$f":"Лист1!C84","v":0},{"$f":"Лист1!D84","v":0},null,{"$f":"IF(ISBLANK(Лист1!E84),\"\",CONCATENATE(Лист1!E84,\"/\",Лист1!$C$3))","v":""},{"$f":"IF(ISBLANK(Лист1!E84),\"\",CONCATENATE(Лист1!E84,\"/\",Лист1!$C$3))","v":""},"",{"$f":"IF(ISBLANK(Лист1!F84),\"\",CONCATENATE(Лист1!F84,\"/\",Лист1!$C$3))","v":""},{"$f":"IF(ISBLANK(Лист1!F84),\"\",CONCATENATE(Лист1!F84,\"/\",Лист1!$C$3))","v":""},"",{"$f":"IF(ISBLANK(Лист1!G84),\"\",CONCATENATE(Лист1!G84,\"/\",Лист1!$C$3))","v":""},{"$f":"IF(ISBLANK(Лист1!G84),\"\",CONCATENATE(Лист1!G84,\"/\",Лист1!$C$3))","v":""},"",{"$f":"IF(ISBLANK(Лист1!H84),\"\",CONCATENATE(Лист1!H84,\"/\",Лист1!$C$3))","v":""},{"$f":"IF(ISBLANK(Лист1!H84),\"\",CONCATENATE(Лист1!H84,\"/\",Лист1!$C$3))","v":""},""]
[null,{"$f":"Лист1!A85","v":"Поз.78"},null,{"$f":"Лист1!B85","v":0},{"$f":"Лист1!C85","v":0},{"$f":"Лист1!D85","v":0},null,{"$f":"IF(ISBLANK(Лист1!E85),\"\",CONCATENATE(Лист1!E85,\"/\",Лист1!$C$3))","v":""},{"$f":"IF(ISBLANK(Лист1!E85),\"\",CONCATENATE(Лист1!E85,\"/\",Лист1!$C$3))","v":""},"",{"$f":"IF(ISBLANK(Лист1!F85),\"\",CONCATENATE(Лист1!F85,\"/\",Лист1!$C$3))","v":""},{"$f":"IF(ISBLANK(Лист1!F85),\"\",CONCATENATE(Лист1!F85,\"/\",Лист1!$C$3))","v":""},"",{"$f":"IF(ISBLANK(Лист1!G85),\"\",CONCATENATE(Лист1!G85,\"/\",Лист1!$C$3))","v":""},{"$f":"IF(ISBLANK(Лист1!G85),\"\",CONCATENATE(Лист1!G85,\"/\",Лист1!$C$3))","v":""},"",{"$f":"IF(ISBLANK(Лист1!H85),\"\",CONCATENATE(Лист1!H85,\"/\",Лист1!$C$3))","v":""},{"$f":"IF(ISBLANK(Лист1!H85),\"\",CONCATENATE(Лист1!H85,\"/\",Лист1!$C$3))","v":""},""]
[null,{"$f":"Лист1!A86","v":"Поз.79"},null,{"$f":"Лист1!B86","v":0},{"$f":"Лист1!C86","v":0},{"$f":"Лист1!D86","v":0},null,{"$f":"IF(ISBLANK(Лист1!E86),\"\",CONCATENATE(Лист1!E86,\"/\",Лист1!$C$3))","v":""},{"$f":"IF(ISBLANK(Лист1!E86),\"\",CONCATENATE(Лист1!E86,\"/\",Лист1!$C$3))","v":""},"",{"$f":"IF(ISBLANK(Лист1!F86),\"\",CONCATENATE(Лист1!F86,\"/\",Лист1!$C$3))","v":""},{"$f":"IF(ISBLANK(Лист1!F86),\"\",CONCATENATE(Лист1!F86,\"/\",Лист1!$C$3))","v":""},"",{"$f":"IF(ISBLANK(Лист1!G86),\"\",CONCATENATE(Лист1!G86,\"/\",Лист1!$C$3))","v":""},{"$f":"IF(ISBLANK(Лист1!G86),\"\",CONCATENATE(Лист1!G86,\"/\",Лист1!$C$3))","v":""},"",{"$f":"IF(ISBLANK(Лист1!H86),\"\",CONCATENATE(Лист1!H86,\"/\",Лист1!$C$3))","v":""},{"$f":"IF(ISBLANK(Лист1!H86),\"\",CONCATENATE(Лист1!H86,\"/\",Лист1!$C$3))","v":""},""]
[null,{"$f":"Лист1!A87","v":"Поз.80"},null,{"$f":"Лист1!B87","v":0},{"$f":"Лист1!C87","v":0},{"$f":"Лист1!D87","v":0},null,{"$f":"IF(ISBLANK(Лист1!E87),\"\",CONCATENATE(Лист1!E87,\"/\",Лист1!$C$3))","v":""},{"$f":"IF(ISBLANK(Лист1!E87),\"\",CONCATENATE(Лист1!E87,\"/\",Лист1!$C$3))","v":""},"",{"$f":"IF(ISBLANK(Лист1!F87),\"\",CONCATENATE(Лист1!F87,\"/\",Лист1!$C$3))","v":""},{"$f":"IF(ISBLANK(Лист1!F87),\"\",CONCATENATE(Лист1!F87,\"/\",Лист1!$C$3))","v":""},"",{"$f":"IF(ISBLANK(Лист1!G87),\"\",CONCATENATE(Лист1!G87,\"/\",Лист1!$C$3))","v":""},{"$f":"IF(ISBLANK(Лист1!G87),\"\",CONCATENATE(Лист1!G87,\"/\",Лист1!$C$3))","v":""},"",{"$f":"IF(ISBLANK(Лист1!H87),\"\",CONCATENATE(Лист1!H87,\"/\",Лист1!$C$3))","v":""},{"$f":"IF(ISBLANK(Лист1!H87),\"\",CONCATENATE(Лист1!H87,\"/\",Лист1!$C$3))","v":""},""]
[null,{"$f":"Лист1!A88","v":"Поз.81"},null,{"$f":"Лист1!B88","v":0},{"$f":"Лист1!C88","v":0},{"$f":"Лист1!D88","v":0},null,{"$f":"IF(ISBLANK(Лист1!E88),\"\",CONCATENATE(Лист1!E88,\"/\",Лист1!$C$3))","v":""},{"$f":"IF(ISBLANK(Лист1!E88),\"\",CONCATENATE(Лист1!E88,\"/\",Лист1!$C$3))","v":""},"",{"$f":"IF(ISBLANK(Лист1!F88),\"\",CONCATENATE(Лист1!F88,\"/\",Лист1!$C$3))","v":""},{"$f":"IF(ISBLANK(Лист1!F88),\"\",CONCATENATE(Лист1!F88,\"/\",Лист1!$C$3))","v":""},"",{"$f":"IF(ISBLANK(Лист1!G88),\"\",CONCATENATE(Лист1!G88,\"/\",Лист1!$C$3))","v":""},{"$f":"IF(ISBLANK(Лист1!G88),\"\",CONCATENATE(Лист1!G88,\"/\",Лист1!$C$3))","v":""},"",{"$f":"IF(ISBLANK(Лист1!H88),\"\",CONCATENATE(Лист1!H88,\"/\",Лист1!$C$3))","v":""},{"$f":"IF(ISBLANK(Лист1!H88),\"\",CONCATENATE(Лист1!H88,\"/\",Лист1!$C$3))","v":""},""]
[null,{"$f":"Лист1!A89","v":"Поз.82"},null,{"$f":"Лист1!B89","v":0},{"$f":"Лист1!C89","v":0},{"$f":"Лист1!D89","v":0},null,{"$f":"IF(ISBLANK(Лист1!E89),\"\",CONCATENATE(Лист1!E89,\"/\",Лист1!$C$3))","v":""},{"$f":"IF(ISBLANK(Лист1!E89),\"\",CONCATENATE(Лист1!E89,\"/\",Лист1!$C$3))","v":""},"",{"$f":"IF(ISBLANK(Лист1!F89),\"\",CONCATENATE(Лист1!F89,\"/\",Лист1!$C$3))","v":""},{"$f":"IF(ISBLANK(Лист1!F89),\"\",CONCATENATE(Лист1!F89,\"/\",Лист1!$C$3))","v":""},"",{"$f":"IF(ISBLANK(Лист1!G89),\"\",CONCATENATE(Лист1!G89,\"/\",Лист1!$C$3))","v":""},{"$f":"IF(ISBLANK(Лист1!G89),\"\",CONCATENATE(Лист1!G89,\"/\",Лист1!$C$3))","v":""},"",{"$f":"IF(ISBLANK(Лист1!H89),\"\",CONCATENATE(Лист1!H89,\"/\",Лист1!$C$3))","v":""},{"$f":"IF(ISBLANK(Лист1!H89),\"\",CONCATENATE(Лист1!H89,\"/\",Лист1!$C$3))","v":""},""]
[null,{"$f":"Лист1!A90","v":"Поз.83"},null,{"$f":"Лист1!B90","v":0},{"$f":"Лист1!C90","v":0},{"$f":"Лист1!D90","v":0},null,{"$f":"IF(ISBLANK(Лист1!E90),\"\",CONCATENATE(Лист1!E90,\"/\",Лист1!$C$3))","v":""},{"$f":"IF(ISBLANK(Лист1!E90),\"\",CONCATENATE(Лист1!E90,\"/\",Лист1!$C$3))","v":""},"",{"$f":"IF(ISBLANK(Лист1!F90),\"\",CONCATENATE(Лист1!F90,\"/\",Лист1!$C$3))","v":""},{"$f":"IF(ISBLANK(Лист1!F90),\"\",CONCATENATE(Лист1!F90,\"/\",Лист1!$C$3))","v":""},"",{"$f":"IF(ISBLANK(Лист1!G90),\"\",CONCATENATE(Лист1!G90,\"/\",Лист1!$C$3))","v":""},{"$f":"IF(ISBLANK(Лист1!G90),\"\",CONCATENATE(Лист1!G90,\"/\",Лист1!$C$3))","v":""},"",{"$f":"IF(ISBLANK(Лист1!H90),\"\",CONCATENATE(Лист1!H90,\"/\",Лист1!$C$3))","v":""},{"$f":"IF(ISBLANK(Лист1!H90),\"\",CONCATENATE(Лист1!H90,\"/\",Лист1!$C$3))","v":""},""]
[null,{"$f":"Лист1!A91","v":"Поз.84"},null,{"$f":"Лист1!B91","v":0},{"$f":"Лист1!C91","v":0},{"$f":"Лист1!D91","v":0},null,{"$f":"IF(ISBLANK(Лист1!E91),\"\",CONCATENATE(Лист1!E91,\"/\",Лист1!$C$3))","v":""},{"$f":"IF(ISBLANK(Лист1!E91),\"\",CONCATENATE(Лист1!E91,\"/\",Лист1!$C$3))","v":""},"",{"$f":"IF(ISBLANK(Лист1!F91),\"\",CONCATENATE(Лист1!F91,\"/\",Лист1!$C$3))","v":""},{"$f":"IF(ISBLANK(Лист1!F91),\"\",CONCATENATE(Лист1!F91,\"/\",Лист1!$C$3))","v":""},"",{"$f":"IF(ISBLANK(Лист1!G91),\"\",CONCATENATE(Лист1!G91,\"/\",Лист1!$C$3))","v":""},{"$f":"IF(ISBLANK(Лист1!G91),\"\",CONCATENATE(Лист1!G91,\"/\",Лист1!$C$3))","v":""},"",{"$f":"IF(ISBLANK(Лист1!H91),\"\",CONCATENATE(Лист1!H91,\"/\",Лист1!$C$3))","v":""},{"$f":"IF(ISBLANK(Лист1!H91),\"\",CONCATENATE(Лист1!H91,\"/\",Лист1!$C$3))","v":""},""]
[null,{"$f":"Лист1!A92","v":"Поз.85"},null,{"$f":"Лист1!B92","v":0},{"$f":"Лист1!C92","v":0},{"$f":"Лист1!D92","v":0},null,{"$f":"IF(ISBLANK(Лист1!E92),\"\",CONCATENATE(Лист1!E92,\"/\",Лист1!$C$3))","v":""},{"$f":"IF(ISBLANK(Лист1!E92),\"\",CONCATENATE(Лист1!E92,\"/\",Лист1!$C$3))","v":""},"",{"$f":"IF(ISBLANK(Лист1!F92),\"\",CONCATENATE(Лист1!F92,\"/\",Лист1!$C$3))","v":""},{"$f":"IF(ISBLANK(Лист1!F92),\"\",CONCATENATE(Лист1!F92,\"/\",Лист1!$C$3))","v":""},"",{"$f":"IF(ISBLANK(Лист1!G92),\"\",CONCATENATE(Лист1!G92,\"/\",Лист1!$C$3))","v":""},{"$f":"IF(ISBLANK(Лист1!G92),\"\",CONCATENATE(Лист1!G92,\"/\",Лист1!$C$3))","v":""},"",{"$f":"IF(ISBLANK(Лист1!H92),\"\",CONCATENATE(Лист1!H92,\"/\",Лист1!$C$3))","v":""},{"$f":"IF(ISBLANK(Лист1!H92),\"\",CONCATENATE(Лист1!H92,\"/\",Лист1!$C$3))","v":""},""]
[null,{"$f":"Лист1!A93","v":"Поз.86"},null,{"$f":"Лист1!B93","v":0},{"$f":"Лист1!C93","v":0},{"$f":"Лист1!D93","v":0},null,{"$f":"IF(ISBLANK(Лист1!E93),\"\",CONCATENATE(Лист1!E93,\"/\",Лист1!$C$3))","v":""},{"$f":"IF(ISBLANK(Лист1!E93),\"\",CONCATENATE(Лист1!E93,\"/\",Лист1!$C$3))","v":""},"",{"$f":"IF(ISBLANK(Лист1!F93),\"\",CONCATENATE(Лист1!F93,\"/\",Лист1!$C$3))","v":""},{"$f":"IF(ISBLANK(Лист1!F93),\"\",CONCATENATE(Лист1!F93,\"/\",Лист1!$C$3))","v":""},"",{"$f":"IF(ISBLANK(Лист1!G93),\"\",CONCATENATE(Лист1!G93,\"/\",Лист1!$C$3))","v":""},{"$f":"IF(ISBLANK(Лист1!G93),\"\",CONCATENATE(Лист1!G93,\"/\",Лист1!$C$3))","v":""},"",{"$f":"IF(ISBLANK(Лист1!H93),\"\",CONCATENATE(Лист1!H93,\"/\",Лист1!$C$3))","v":""},{"$f":"IF(ISBLANK(Лист1!H93),\"\",CONCATENATE(Лист1!H93,\"/\",Лист1!$C$3))","v":""},""]
[null,{"$f":"Лист1!A94","v":"Поз.87"},null,{"$f":"Лист1!B94","v":0},{"$f":"Лист1!C94","v":0},{"$f":"Лист1!D94","v":0},null,{"$f":"IF(ISBLANK(Лист1!E94),\"\",CONCATENATE(Лист1!E94,\"/\",Лист1!$C$3))","v":""},{"$f":"IF(ISBLANK(Лист1!E94),\"\",CONCATENATE(Лист1!E94,\"/\",Лист1!$C$3))","v":""},"",{"$f":"IF(ISBLANK(Лист1!F94),\"\",CONCATENATE(Лист1!F94,\"/\",Лист1!$C$3))","v":""},{"$f":"IF(ISBLANK(Лист1!F94),\"\",CONCATENATE(Лист1!F94,\"/\",Лист1!$C$3))","v":""},"",{"$f":"IF(ISBLANK(Лист1!G94),\"\",CONCATENATE(Лист1!G94,\"/\",Лист1!$C$3))","v":""},{"$f":"IF(ISBLANK(Лист1!G94),\"\",CONCATENATE(Лист1!G94,\"/\",Лист1!$C$3))","v":""},"",{"$f":"IF(ISBLANK(Лист1!H94),\"\",CONCATENATE(Лист1!H94,\"/\",Лист1!$C$3))","v":""},{"$f":"IF(ISBLANK(Лист1!H94),\"\",CONCATENATE(Лист1!H94,\"/\",Лист1!$C$3))","v":""},""]
[null,{"$f":"Лист1!A95","v":"Поз.88"},null,{"$f":"Лист1!B95","v":0},{"$f":"Лист1!C95","v":0},{"$f":"Лист1!D95","v":0},null,{"$f":"IF(ISBLANK(Лист1!E95),\"\",CONCATENATE(Лист1!E95,\"/\",Лист1!$C$3))","v":""},{"$f":"IF(ISBLANK(Лист1!E95),\"\",CONCATENATE(Лист1!E95,\"/\",Лист1!$C$3))","v":""},"",{"$f":"IF(ISBLANK(Лист1!F95),\"\",CONCATENATE(Лист1!F95,\"/\",Лист1!$C$3))","v":""},{"$f":"IF(ISBLANK(Лист1!F95),\"\",CONCATENATE(Лист1!F95,\"/\",Лист1!$C$3))","v":""},"",{"$f":"IF(ISBLANK(Лист1!G95),\"\",CONCATENATE(Лист1!G95,\"/\",Лист1!$C$3))","v":""},{"$f":"IF(ISBLANK(Лист1!G95),\"\",CONCATENATE(Лист1!G95,\"/\",Лист1!$C$3))","v":""},"",{"$f":"IF(ISBLANK(Лист1!H95),\"\",CONCATENATE(Лист1!H95,\"/\",Лист1!$C$3))","v":""},{"$f":"IF(ISBLANK(Лист1!H95),\"\",CONCATENATE(Лист1!H95,\"/\",Лист1!$C$3))","v":""},""]
[null,{"$f":"Лист1!A96","v":"Поз.89"},null,{"$f":"Лист1!B96","v":0},{"$f":"Лист1!C96","v":0},{"$f":"Лист1!D96","v":0},null,{"$f":"IF(ISBLANK(Лист1!E96),\"\",CONCATENATE(Лист1!E96,\"/\",Лист1!$C$3))","v":""},{"$f":"IF(ISBLANK(Лист1!E96),\"\",CONCATENATE(Лист1!E96,\"/\",Лист1!$C$3))","v":""},"",{"$f":"IF(ISBLANK(Лист1!F96),\"\",CONCATENATE(Лист1!F96,\"/\",Лист1!$C$3))","v":""},{"$f":"IF(ISBLANK(Лист1!F96),\"\",CONCATENATE(Лист1!F96,\"/\",Лист1!$C$3))","v":""},"",{"$f":"IF(ISBLANK(Лист1!G96),\"\",CONCATENATE(Лист1!G96,\"/\",Лист1!$C$3))","v":""},{"$f":"IF(ISBLANK(Лист1!G96),\"\",CONCATENATE(Лист1!G96,\"/\",Лист1!$C$3))","v":""},"",{"$f":"IF(ISBLANK(Лист1!H96),\"\",CONCATENATE(Лист1!H96,\"/\",Лист1!$C$3))","v":""},{"$f":"IF(ISBLANK(Лист1!H96),\"\",CONCATENATE(Лист1!H96,\"/\",Лист1!$C$3))","v":""},""]
[null,{"$f":"Лист1!A97","v":"Поз.90"},null,{"$f":"Лист1!B97","v":0},{"$f":"Лист1!C97","v":0},{"$f":"Лист1!D97","v":0},null,{"$f":"IF(ISBLANK(Лист1!E97),\"\",CONCATENATE(Лист1!E97,\"/\",Лист1!$C$3))","v":""},{"$f":"IF(ISBLANK(Лист1!E97),\"\",CONCATENATE(Лист1!E97,\"/\",Лист1!$C$3))","v":""},"",{"$f":"IF(ISBLANK(Лист1!F97),\"\",CONCATENATE(Лист1!F97,\"/\",Лист1!$C$3))","v":""},{"$f":"IF(ISBLANK(Лист1!F97),\"\",CONCATENATE(Лист1!F97,\"/\",Лист1!$C$3))","v":""},"",{"$f":"IF(ISBLANK(Лист1!G97),\"\",CONCATENATE(Лист1!G97,\"/\",Лист1!$C$3))","v":""},{"$f":"IF(ISBLANK(Лист1!G97),\"\",CONCATENATE(Лист1!G97,\"/\",Лист1!$C$3))","v":""},"",{"$f":"IF(ISBLANK(Лист1!H97),\"\",CONCATENATE(Лист1!H97,\"/\",Лист1!$C$3))","v":""},{"$f":"IF(ISBLANK(Лист1!H97),\"\",CONCATENATE(Лист1!H97,\"/\",Лист1!$C$3))","v":""},""]
[null,{"$f":"Лист1!A98","v":"Поз.91"},null,{"$f":"Лист1!B98","v":0},{"$f":"Лист1!C98","v":0},{"$f":"Лист1!D98","v":0},null,{"$f":"IF(ISBLANK(Лист1!E98),\"\",CONCATENATE(Лист1!E98,\"/\",Лист1!$C$3))","v":""},{"$f":"IF(ISBLANK(Лист1!E98),\"\",CONCATENATE(Лист1!E98,\"/\",Лист1!$C$3))","v":""},"",{"$f":"IF(ISBLANK(Лист1!F98),\"\",CONCATENATE(Лист1!F98,\"/\",Лист1!$C$3))","v":""},{"$f":"IF(ISBLANK(Лист1!F98),\"\",CONCATENATE(Лист1!F98,\"/\",Лист1!$C$3))","v":""},"",{"$f":"IF(ISBLANK(Лист1!G98),\"\",CONCATENATE(Лист1!G98,\"/\",Лист1!$C$3))","v":""},{"$f":"IF(ISBLANK(Лист1!G98),\"\",CONCATENATE(Лист1!G98,\"/\",Лист1!$C$3))","v":""},"",{"$f":"IF(ISBLANK(Лист1!H98),\"\",CONCATENATE(Лист1!H98,\"/\",Лист1!$C$3))","v":""},{"$f":"IF(ISBLANK(Лист1!H98),\"\",CONCATENATE(Лист1!H98,\"/\",Лист1!$C$3))","v":""},""]
[null,{"$f":"Лист1!A99","v":"Поз.92"},null,{"$f":"Лист1!B99","v":0},{"$f":"Лист1!C99","v":0},{"$f":"Лист1!D99","v":0},null,{"$f":"IF(ISBLANK(Лист1!E99),\"\",CONCATENATE(Лист1!E99,\"/\",Лист1!$C$3))","v":""},{"$f":"IF(ISBLANK(Лист1!E99),\"\",CONCATENATE(Лист1!E99,\"/\",Лист1!$C$3))","v":""},"",{"$f":"IF(ISBLANK(Лист1!F99),\"\",CONCATENATE(Лист1!F99,\"/\",Лист1!$C$3))","v":""},{"$f":"IF(ISBLANK(Лист1!F99),\"\",CONCATENATE(Лист1!F99,\"/\",Лист1!$C$3))","v":""},"",{"$f":"IF(ISBLANK(Лист1!G99),\"\",CONCATENATE(Лист1!G99,\"/\",Лист1!$C$3))","v":""},{"$f":"IF(ISBLANK(Лист1!G99),\"\",CONCATENATE(Лист1!G99,\"/\",Лист1!$C$3))","v":""},"",{"$f":"IF(ISBLANK(Лист1!H99),\"\",CONCATENATE(Лист1!H99,\"/\",Лист1!$C$3))","v":""},{"$f":"IF(ISBLANK(Лист1!H99),\"\",CONCATENATE(Лист1!H99,\"/\",Лист1!$C$3))","v":""},""]
[null,{"$f":"Лист1!A100","v":"Поз.93"},null,{"$f":"Лист1!B100","v":0},{"$f":"Лист1!C100","v":0},{"$f":"Лист1!D100","v":0},null,{"$f":"IF(ISBLANK(Лист1!E100),\"\",CONCATENATE(Лист1!E100,\"/\",Лист1!$C$3))","v":""},{"$f":"IF(ISBLANK(Лист1!E100),\"\",CONCATENATE(Лист1!E100,\"/\",Лист1!$C$3))","v":""},"",{"$f":"IF(ISBLANK(Лист1!F100),\"\",CONCATENATE(Лист1!F100,\"/\",Лист1!$C$3))","v":""},{"$f":"IF(ISBLANK(Лист1!F100),\"\",CONCATENATE(Лист1!F100,\"/\",Лист1!$C$3))","v":""},"",{"$f":"IF(ISBLANK(Лист1!G100),\"\",CONCATENATE(Лист1!G100,\"/\",Лист1!$C$3))","v":""},{"$f":"IF(ISBLANK(Лист1!G100),\"\",CONCATENATE(Лист1!G100,\"/\",Лист1!$C$3))","v":""},"",{"$f":"IF(ISBLANK(Лист1!H100),\"\",CONCATENATE(Лист1!H100,\"/\",Лист1!$C$3))","v":""},{"$f":"IF(ISBLANK(Лист1!H100),\"\",CONCATENATE(Лист1!H100,\"/\",Лист1!$C$3))","v":""},""]
[null,{"$f":"Лист1!A101","v":"Поз.94"},null,{"$f":"Лист1!B101","v":0},{"$f":"Лист1!C101","v":0},{"$f":"Лист1!D101","v":0},null,{"$f":"IF(ISBLANK(Лист1!E101),\"\",CONCATENATE(Лист1!E101,\"/\",Лист1!$C$3))","v":""},{"$f":"IF(ISBLANK(Лист1!E101),\"\",CONCATENATE(Лист1!E101,\"/\",Лист1!$C$3))","v":""},"",{"$f":"IF(ISBLANK(Лист1!F101),\"\",CONCATENATE(Лист1!F101,\"/\",Лист1!$C$3))","v":""},{"$f":"IF(ISBLANK(Лист1!F101),\"\",CONCATENATE(Лист1!F101,\"/\",Лист1!$C$3))","v":""},"",{"$f":"IF(ISBLANK(Лист1!G101),\"\",CONCATENATE(Лист1!G101,\"/\",Лист1!$C$3))","v":""},{"$f":"IF(ISBLANK(Лист1!G101),\"\",CONCATENATE(Лист1!G101,\"/\",Лист1!$C$3))","v":""},"",{"$f":"IF(ISBLANK(Лист1!H101),\"\",CONCATENATE(Лист1!H101,\"/\",Лист1!$C$3))","v":""},{"$f":"IF(ISBLANK(Лист1!H101),\"\",CONCATENATE(Лист1!H101,\"/\",Лист1!$C$3))","v":""},""]
[null,{"$f":"Лист1!A102","v":"Поз.95"},null,{"$f":"Лист1!B102","v":0},{"$f":"Лист1!C102","v":0},{"$f":"Лист1!D102","v":0},null,{"$f":"IF(ISBLANK(Лист1!E102),\"\",CONCATENATE(Лист1!E102,\"/\",Лист1!$C$3))","v":""},{"$f":"IF(ISBLANK(Лист1!E102),\"\",CONCATENATE(Лист1!E102,\"/\",Лист1!$C$3))","v":""},"",{"$f":"IF(ISBLANK(Лист1!F102),\"\",CONCATENATE(Лист1!F102,\"/\",Лист1!$C$3))","v":""},{"$f":"IF(ISBLANK(Лист1!F102),\"\",CONCATENATE(Лист1!F102,\"/\",Лист1!$C$3))","v":""},"",{"$f":"IF(ISBLANK(Лист1!G102),\"\",CONCATENATE(Лист1!G102,\"/\",Лист1!$C$3))","v":""},{"$f":"IF(ISBLANK(Лист1!G102),\"\",CONCATENATE(Лист1!G102,\"/\",Лист1!$C$3))","v":""},"",{"$f":"IF(ISBLANK(Лист1!H102),\"\",CONCATENATE(Лист1!H102,\"/\",Лист1!$C$3))","v":""},{"$f":"IF(ISBLANK(Лист1!H102),\"\",CONCATENATE(Лист1!H102,\"/\",Лист1!$C$3))","v":""},""]
[null,{"$f":"Лист1!A103","v":"Поз.96"},null,{"$f":"Лист1!B103","v":0},{"$f":"Лист1!C103","v":0},{"$f":"Лист1!D103","v":0},null,{"$f":"IF(ISBLANK(Лист1!E103),\"\",CONCATENATE(Лист1!E103,\"/\",Лист1!$C$3))","v":""},{"$f":"IF(ISBLANK(Лист1!E103),\"\",CONCATENATE(Лист1!E103,\"/\",Лист1!$C$3))","v":""},"",{"$f":"IF(ISBLANK(Лист1!F103),\"\",CONCATENATE(Лист1!F103,\"/\",Лист1!$C$3))","v":""},{"$f":"IF(ISBLANK(Лист1!F103),\"\",CONCATENATE(Лист1!F103,\"/\",Лист1!$C$3))","v":""},"",{"$f":"IF(ISBLANK(Лист1!G103),\"\",CONCATENATE(Лист1!G103,\"/\",Лист1!$C$3))","v":""},{"$f":"IF(ISBLANK(Лист1!G103),\"\",CONCATENATE(Лист1!G103,\"/\",Лист1!$C$3))","v":""},"",{"$f":"IF(ISBLANK(Лист1!H103),\"\",CONCATENATE(Лист1!H103,\"/\",Лист1!$C$3))","v":""},{"$f":"IF(ISBLANK(Лист1!H103),\"\",CONCATENATE(Лист1!H103,\"/\",Лист1!$C$3))","v":""},""]
[null,{"$f":"Лист1!A104","v":"Поз.97"},null,{"$f":"Лист1!B104","v":0},{"$f":"Лист1!C104","v":0},{"$f":"Лист1!D104","v":0},null,{"$f":"IF(ISBLANK(Лист1!E104),\"\",CONCATENATE(Лист1!E104,\"/\",Лист1!$C$3))","v":""},{"$f":"IF(ISBLANK(Лист1!E104),\"\",CONCATENATE(Лист1!E104,\"/\",Лист1!$C$3))","v":""},"",{"$f":"IF(ISBLANK(Лист1!F104),\"\",CONCATENATE(Лист1!F104,\"/\",Лист1!$C$3))","v":""},{"$f":"IF(ISBLANK(Лист1!F104),\"\",CONCATENATE(Лист1!F104,\"/\",Лист1!$C$3))","v":""},"",{"$f":"IF(ISBLANK(Лист1!G104),\"\",CONCATENATE(Лист1!G104,\"/\",Лист1!$C$3))","v":""},{"$f":"IF(ISBLANK(Лист1!G104),\"\",CONCATENATE(Лист1!G104,\"/\",Лист1!$C$3))","v":""},"",{"$f":"IF(ISBLANK(Лист1!H104),\"\",CONCATENATE(Лист1!H104,\"/\",Лист1!$C$3))","v":""},{"$f":"IF(ISBLANK(Лист1!H104),\"\",CONCATENATE(Лист1!H104,\"/\",Лист1!$C$3))","v":""},""]
[null,{"$f":"Лист1!A105","v":"Поз.98"},null,{"$f":"Лист1!B105","v":0},{"$f":"Лист1!C105","v":0},{"$f":"Лист1!D105","v":0},null,{"$f":"IF(ISBLANK(Лист1!E105),\"\",CONCATENATE(Лист1!E105,\"/\",Лист1!$C$3))","v":""},{"$f":"IF(ISBLANK(Лист1!E105),\"\",CONCATENATE(Лист1!E105,\"/\",Лист1!$C$3))","v":""},"",{"$f":"IF(ISBLANK(Лист1!F105),\"\",CONCATENATE(Лист1!F105,\"/\",Лист1!$C$3))","v":""},{"$f":"IF(ISBLANK(Лист1!F105),\"\",CONCATENATE(Лист1!F105,\"/\",Лист1!$C$3))","v":""},"",{"$f":"IF(ISBLANK(Лист1!G105),\"\",CONCATENATE(Лист1!G105,\"/\",Лист1!$C$3))","v":""},{"$f":"IF(ISBLANK(Лист1!G105),\"\",CONCATENATE(Лист1!G105,\"/\",Лист1!$C$3))","v":""},"",{"$f":"IF(ISBLANK(Лист1!H105),\"\",CONCATENATE(Лист1!H105,\"/\",Лист1!$C$3))","v":""},{"$f":"IF(ISBLANK(Лист1!H105),\"\",CONCATENATE(Лист1!H105,\"/\",Лист1!$C$3))","v":""},""]
[null,{"$f":"Лист1!A106","v":"Поз.99"},null,{"$f":"Лист1!B106","v":0},{"$f":"Лист1!C106","v":0},{"$f":"Лист1!D106","v":0},null,{"$f":"IF(ISBLANK(Лист1!E106),\"\",CONCATENATE(Лист1!E106,\"/\",Лист1!$C$3))","v":""},{"$f":"IF(ISBLANK(Лист1!E106),\"\",CONCATENATE(Лист1!E106,\"/\",Лист1!$C$3))","v":""},"",{"$f":"IF(ISBLANK(Лист1!F106),\"\",CONCATENATE(Лист1!F106,\"/\",Лист1!$C$3))","v":""},{"$f":"IF(ISBLANK(Лист1!F106),\"\",CONCATENATE(Лист1!F106,\"/\",Лист1!$C$3))","v":""},"",{"$f":"IF(ISBLANK(Лист1!G106),\"\",CONCATENATE(Лист1!G106,\"/\",Лист1!$C$3))","v":""},{"$f":"IF(ISBLANK(Лист1!G106),\"\",CONCATENATE(Лист1!G106,\"/\",Лист1!$C$3))","v":""},"",{"$f":"IF(ISBLANK(Лист1!H106),\"\",CONCATENATE(Лист1!H106,\"/\",Лист1!$C$3))","v":""},{"$f":"IF(ISBLANK(Лист1!H106),\"\",CONCATENATE(Лист1!H106,\"/\",Лист1!$C$3))","v":""},""]
[null,{"$f":"Лист1!A107","v":"Поз.100"},null,{"$f":"Лист1!B107","v":0},{"$f":"Лист1!C107","v":0},{"$f":"Лист1!D107","v":0},null,{"$f":"IF(ISBLANK(Лист1!E107),\"\",CONCATENATE(Лист1!E107,\"/\",Лист1!$C$3))","v":""},{"$f":"IF(ISBLANK(Лист1!E107),\"\",CONCATENATE(Лист1!E107,\"/\",Лист1!$C$3))","v":""},"",{"$f":"IF(ISBLANK(Лист1!F107),\"\",CONCATENATE(Лист1!F107,\"/\",Лист1!$C$3))","v":""},{"$f":"IF(ISBLANK(Лист1!F107),\"\",CONCATENATE(Лист1!F107,\"/\",Лист1!$C$3))","v":""},"",{"$f":"IF(ISBLANK(Лист1!G107),\"\",CONCATENATE(Лист1!G107,\"/\",Лист1!$C$3))","v":""},{"$f":"IF(ISBLANK(Лист1!G107),\"\",CONCATENATE(Лист1!G107,\"/\",Лист1!$C$3))","v":""},"",{"$f":"IF(ISBLANK(Лист1!H107),\"\",CONCATENATE(Лист1!H107,\"/\",Лист1!$C$3))","v":""},{"$f":"IF(ISBLANK(Лист1!H107),\"\",CONCATENATE(Лист1!H107,\"/\",Лист1!$C$3))","v":""},""]